BEGIN:VCALENDAR
PRODID:NingEventWidget-v1
VERSION:2.0
METHOD:PUBLISH
BEGIN:VTIMEZONE
TZID:Europe/London
X-LIC-LOCATION:Europe/London
BEGIN:DAYLIGHT
TZOFFSETFROM:+0000
TZOFFSETTO:+0100
TZNAME:BST
DTSTART:19700329T010000
RRULE:FREQ=YEARLY;BYMONTH=3;BYDAY=-1SU
END:DAYLIGHT
BEGIN:STANDARD
TZOFFSETFROM:+0100
TZOFFSETTO:+0000
TZNAME:GMT
DTSTART:19701025T020000
RRULE:FREQ=YEARLY;BYMONTH=10;BYDAY=-1SU
END:STANDARD
END:VTIMEZONE
BEGIN:VEVENT
UID:4626108:Event:100736
DTSTAMP:20260422T041341Z
SUMMARY:Dorking Rugby Club Networking
DESCRIPTION:\nOfficially the Best Networking Group in Surrey!\nCome an
 d experience our award winning networking event. Our unique format ens
 ures you gain the most from your time networking. It goes like this: 
 \nTHE FORWARDS - Choose your welcome drink from the bar and start chat
 ting \nTHE SCRUM - This is where it gets interesting! It's all abo
 ut getting to know each other better and building relationships. You'
 ll join 3 different table's during this section. You'll have the oppo
 rtunity to introduce yourself and describe the businesses you work wit
 h and who you'd like to be introduced to. Next, a fellow networker wil
 l pose a business challenge that's currently keeping them awake at nig
 ht. Perhaps you've had a similar experience and can share how you solv
 ed the problem. Finally, we will introduce a common business challenge
  for general discussion.\nTEAM TALK – 10 minutes by a business owne
 r and loyal supporter\nTHE BACKS - This is when Sam's mouthwatering ca
 napés arrive. The bar is open so grab a drink and carry on networking
 .\nWIN : WIN - Every penny we raise at this networking event goes to D
 orking Rugby Club.\nDorking RFC is a community rugby club. They run te
 ams from under 7 through to under 21 and then four senior sides. In 20
 09, they became a registered charity (the first rugby club in England 
 to do so). On the field they are committed to amateur principles with 
 a ‘one club ethos’ which aims to develop their junior players in d
 ue course to represent our First XV or to play the game at a senior le
 vel elsewhere.\nThe number of tickets available is restricted to 35, s
 o please don't delay in booking your place.\nEvent Organisers: Nicola
  Macdonald of Attractive Marketing and Chris Webb of Marks Howard LL
 P are both established local businesses, sponsors and members of Dork
 ing Rugby Club.  We wish to bring together local businesses and membe
 rs of the club for the benefit of the community.\nFuture meetings will
  be held on the second Thursday of every month.  \nSo if you can't m
 ake this one put a date in your diary for the next one.  Same time; s
 ame place.  See you there. \nCOST: £15.50 \nBOOKING: Please CLICK 
 HERE to book your place\nMAP\nPlenty of free parking\n\nFor more info
 rmation visit https://networkinginsurrey.co.uk/events/dorking-rugby-cl
 ub-networking-982
DTSTART;TZID=Europe/London:20181108T180000
DTEND;TZID=Europe/London:20181108T203000
CATEGORIES:networking, evening
LOCATION:Dorking Rugby Club, RH3 7LZ
WEBSITE:http://www.venuehiresurrey.co.uk/about/
URL:http://www.venuehiresurrey.co.uk/about/
CONTACT:07565 382803
ORGANIZER;CN="Nicola Macdonald":https://networkinginsurrey.co.uk/profi
 le/NicolaMacdonald
ATTACH;FMTTYPE="image/jpeg":http://storage.ning.com/topology/rest/1.0/
 file/get/2591448268?profile=original
ATTENDEE;ROLE=REQ-PARTICIPANT;PARTSTAT=ACCEPTED;RSVP=TRUE;CN="Nicola M
 acdonald":https://networkinginsurrey.co.uk/profile/NicolaMacdonald
END:VEVENT
END:VCALENDAR
