BEGIN:VCALENDAR
PRODID:NingEventWidget-v1
VERSION:2.0
METHOD:PUBLISH
BEGIN:VTIMEZONE
TZID:Europe/London
X-LIC-LOCATION:Europe/London
BEGIN:DAYLIGHT
TZOFFSETFROM:+0000
TZOFFSETTO:+0100
TZNAME:BST
DTSTART:19700329T010000
RRULE:FREQ=YEARLY;BYMONTH=3;BYDAY=-1SU
END:DAYLIGHT
BEGIN:STANDARD
TZOFFSETFROM:+0100
TZOFFSETTO:+0000
TZNAME:GMT
DTSTART:19701025T020000
RRULE:FREQ=YEARLY;BYMONTH=10;BYDAY=-1SU
END:STANDARD
END:VTIMEZONE
BEGIN:VEVENT
UID:4626108:Event:100738
DTSTAMP:20260425T023419Z
SUMMARY:Dorking Rugby Club Networking
DESCRIPTION:\r\nOfficially the Best Networking Group in Surrey!\r\nCom
 e and experience our award winning networking event. Our unique format
  ensures you gain the most from your time networking. It goes like thi
 s:Â \r\nTHE FORWARDS - Choose your welcome drink from the bar and star
 t chattingÂ \r\nTHE SCRUMÂ -Â This is where it gets interesting! It'sÂ
  all about getting to know each other better and building relationship
 s.Â You'll join 3 different table's during this section.Â You'll have 
 the opportunity to introduce yourself and describe the businesses you 
 work with and who you'd like to be introduced to. Next, a fellow netwo
 rker will pose a business challenge that's currently keeping them awak
 e at night. Perhaps you've had a similar experience and can share how 
 you solved the problem. Finally, we will introduce a common business c
 hallenge for general discussion.\r\nTEAM TALKÂ â€“ 10 minutes by a bus
 iness owner and loyal supporter\r\nTHE BACKS - This is when Sam's mout
 hwatering canapÃ©s arrive. The bar is open so grab a drink and carry o
 n networking.\r\nWIN : WIN - Every penny we raise at this networking e
 vent goes to Dorking Rugby Club.\r\nDorking RFC is a community rugby c
 lub. They run teams from under 7 through to under 21 and then four sen
 ior sides. In 2009, they became a registered charity (the first rugby 
 club in England to do so). On the field they are committed to amateur 
 principles with a â€˜one club ethosâ€™ which aims to develop their jun
 ior players in due course to represent our First XV or to play the gam
 e at a senior level elsewhere.\r\nThe number of tickets available is r
 estricted to 35, so please don't delay in booking your place.\r\nEvent
  Organisers:Â Nicola MacdonaldÂ of Attractive Marketing and Chris Webb
 Â of Marks Howard LLPÂ are both established local businesses, sponsors
  and members of Dorking Rugby Club. Â We wish to bring together local 
 businesses and members of the club for the benefit of the community.\r
 \nFuture meetings will be held on the second Thursday of every month.Â
  Â \r\nSo if you can't make this one put a date in your diary for the 
 next one. Â Same time; same place. Â See you there.Â \r\nCOST: Â£15.50
 Â \r\nBOOKING: Please CLICK HEREÂ to book your place\r\nMAP\r\nPlenty 
 of free parking \n\nFor more information visit https://networkinginsur
 rey.co.uk/events/dorking-rugby-club-networking-396
DTSTART;TZID=Europe/London:20181213T180000
DTEND;TZID=Europe/London:20181213T203000
CATEGORIES:networking, evening
LOCATION:Dorking Rugby Club, RH3 7LZ
WEBSITE:http://www.venuehiresurrey.co.uk/about/
URL:http://www.venuehiresurrey.co.uk/about/
CONTACT:07565 382803
ORGANIZER;CN="Nicola Macdonald":https://networkinginsurrey.co.uk/profi
 le/NicolaMacdonald
ATTACH;FMTTYPE="image/jpeg":https://storage.ning.com/topology/rest/1.0
 /file/get/254858527?profile=original
ATTENDEE;ROLE=REQ-PARTICIPANT;PARTSTAT=ACCEPTED;RSVP=TRUE;CN="Nicola M
 acdonald":https://networkinginsurrey.co.uk/profile/NicolaMacdonald
END:VEVENT
END:VCALENDAR
