BEGIN:VCALENDAR
PRODID:NingEventWidget-v1
VERSION:2.0
METHOD:PUBLISH
BEGIN:VTIMEZONE
TZID:Europe/London
X-LIC-LOCATION:Europe/London
BEGIN:DAYLIGHT
TZOFFSETFROM:+0000
TZOFFSETTO:+0100
TZNAME:BST
DTSTART:19700329T010000
RRULE:FREQ=YEARLY;BYMONTH=3;BYDAY=-1SU
END:DAYLIGHT
BEGIN:STANDARD
TZOFFSETFROM:+0100
TZOFFSETTO:+0000
TZNAME:GMT
DTSTART:19701025T020000
RRULE:FREQ=YEARLY;BYMONTH=10;BYDAY=-1SU
END:STANDARD
END:VTIMEZONE
BEGIN:VEVENT
UID:4626108:Event:95519
DTSTAMP:20260423T005334Z
SUMMARY:Dorking Rugby Club Evening
DESCRIPTION:\r\nOfficially the Best Networking Group in Surrey!\r\nCom
 e and experience our award winning networking event. Our unique format
  ensures you gain the most from your time networking. It goes like thi
 s: \r\nTHE FORWARDS - Choose your welcome drink from the bar and star
 t chatting \r\nTHE SCRUM - This is where it gets interesting! You wil
 l join three different tables of 4 people and have 5 minutes to talk a
 bout you, your business, how you help people and most importantly who 
 you'd like to be introduced to.\r\nTHE GOAL – 7 winning business poi
 nts delivered in 10 minutes by a business owner and loyal supporter\r\
 nTHE BACKS - This is when Sam's mouthwatering canapés arrive. The bar
  is open so grab a drink and carry on networking.\r\nWIN : WIN - Every
  penny we raise at this networking event goes to Dorking Rugby Club.\r
 \nDorking RFC is a community rugby club. They run teams from under 7 t
 hrough to under 21 and then four senior sides. In 2009, they became a 
 registered charity (the first rugby club in England to do so). On the 
 field they are committed to amateur principles with a ‘one club etho
 s’ which aims to develop their junior players in due course to repre
 sent our First XV or to play the game at a senior level elsewhere.\r\n
 The number of tickets available is restricted to 35, so please don't d
 elay in booking your place.\r\nEvent Organisers: Nicola Macdonald of
  Attractive Marketing and Chris Webb of Marks Howard LLP are both es
 tablished local businesses, sponsors and members of Dorking Rugby Club
 .  We wish to bring together local businesses and members of the club
  for the benefit of the community.\r\nFuture meetings will be held on 
 the second Thursday of every month.  \r\nSo if you can't make this o
 ne put a date in your diary for the next one.  Same time; same place.
   See you there. \r\nCOST: £15.50 \r\nBOOKING: Please CLICK HERE 
 to book your place\r\nMAP\r\nPlenty of free parking \n\nFor more infor
 mation visit https://networkinginsurrey.co.uk/events/dorking-rugby-clu
 b-networking-26
DTSTART;TZID=Europe/London:20180308T180000
DTEND;TZID=Europe/London:20180308T203000
CATEGORIES:networking, evening
LOCATION:Dorking Rugby Club, RH3 7LZ
WEBSITE:http://www.venuehiresurrey.co.uk/about/
URL:http://www.venuehiresurrey.co.uk/about/
CONTACT:07565 382803
ORGANIZER;CN="Nicola Macdonald":https://networkinginsurrey.co.uk/profi
 le/NicolaMacdonald
ATTACH;FMTTYPE="image/jpeg":http://storage.ning.com/topology/rest/1.0/
 file/get/2591448268?profile=original
ATTENDEE;ROLE=REQ-PARTICIPANT;PARTSTAT=ACCEPTED;RSVP=TRUE;CN="Nicola M
 acdonald":https://networkinginsurrey.co.uk/profile/NicolaMacdonald
END:VEVENT
END:VCALENDAR
