BEGIN:VCALENDAR
PRODID:NingEventWidget-v1
VERSION:2.0
METHOD:PUBLISH
BEGIN:VTIMEZONE
TZID:Europe/London
X-LIC-LOCATION:Europe/London
BEGIN:DAYLIGHT
TZOFFSETFROM:+0000
TZOFFSETTO:+0100
TZNAME:BST
DTSTART:19700329T010000
RRULE:FREQ=YEARLY;BYMONTH=3;BYDAY=-1SU
END:DAYLIGHT
BEGIN:STANDARD
TZOFFSETFROM:+0100
TZOFFSETTO:+0000
TZNAME:GMT
DTSTART:19701025T020000
RRULE:FREQ=YEARLY;BYMONTH=10;BYDAY=-1SU
END:STANDARD
END:VTIMEZONE
BEGIN:VEVENT
UID:4626108:Event:68733
DTSTAMP:20260421T035538Z
SUMMARY:Dorking Rugby Club Evening, Dorking
DESCRIPTION:Dorking Rugby Club Networking Evening... \n\nPlease come 
 and join us for evening business networking event at Dorking Rugby Clu
 b (DRFC).\nEnjoy a welcome drink and informal networking on arrival. Y
 ou'll then have the opportunity for deeper networking, explaining how 
 you help your clients, at three rotating table sessions. \nThis is yo
 ur chance to make an impact and connect with future customers and peop
 le who will help your business grow.\nA big thank you to  Graham Faul
 kner of Ewemove.com for sponsoring the welcome drink. EweMove.com is 
 not your typical Estate Agent and they make sure YOUR property gets th
 e attention it deserves.\nThe number of tickets available is restricte
 d to 35, so please don't delay in booking your place.\nEvent Organiser
 s: Nicola Macdonald of Attractive Marketing and Chris Webb of Strateg
 ic Financial Portfolios are both established local businesses, sponsor
 s and members of Dorking Rugby Club.  We wish to bring together local
  businesses and members of the club for the benefit of the community.\
 nFuture meetings will be held on the second Thursday of every month. 
  \nSo if you can't make this one put a date in your diary for 13th No
 vember.  Same time; same place.  See you there. \nCOST: £15 \nBOO
 KING: Book your place via Eventbrite here\nMAP\nPlenty of free parkin
 g\n\nFor more information visit https://networkinginsurrey.co.uk/event
 s/dorking-rugby-club-evening-dorking
DTSTART;TZID=Europe/London:20141009T180000
DTEND;TZID=Europe/London:20141009T203000
CATEGORIES:dorking, evening
LOCATION:Dorking Rugby Club, RH3 7LZ
WEBSITE:http://www.venuehiresurrey.co.uk/about/
URL:http://www.venuehiresurrey.co.uk/about/
CONTACT:07565 382803
ORGANIZER;CN="Nicola Macdonald":https://networkinginsurrey.co.uk/profi
 le/NicolaMacdonald
ATTACH;FMTTYPE="image/jpeg":http://storage.ning.com/topology/rest/1.0/
 file/get/2591434032?profile=original
ATTENDEE;ROLE=REQ-PARTICIPANT;PARTSTAT=ACCEPTED;RSVP=TRUE;CN="Nicola M
 acdonald":https://networkinginsurrey.co.uk/profile/NicolaMacdonald
END:VEVENT
END:VCALENDAR
