BEGIN:VCALENDAR
PRODID:NingEventWidget-v1
VERSION:2.0
METHOD:PUBLISH
BEGIN:VTIMEZONE
TZID:Europe/London
X-LIC-LOCATION:Europe/London
BEGIN:DAYLIGHT
TZOFFSETFROM:+0000
TZOFFSETTO:+0100
TZNAME:BST
DTSTART:19700329T010000
RRULE:FREQ=YEARLY;BYMONTH=3;BYDAY=-1SU
END:DAYLIGHT
BEGIN:STANDARD
TZOFFSETFROM:+0100
TZOFFSETTO:+0000
TZNAME:GMT
DTSTART:19701025T020000
RRULE:FREQ=YEARLY;BYMONTH=10;BYDAY=-1SU
END:STANDARD
END:VTIMEZONE
BEGIN:VEVENT
UID:4626108:Event:70122
DTSTAMP:20260419T191918Z
SUMMARY:Dorking Rugby Club Evening, Dorking
DESCRIPTION:Dorking Rugby Club Networking Evening... \n\nPlease come 
 and join us for evening business networking at Dorking Rugby Club (DRF
 C).\nEnjoy a welcome drink and informal networking on arrival. You'll 
 then have the opportunity for deeper networking, explaining how you he
 lp your clients, at three rotating table sessions. \nThis is your cha
 nce to make an impact and connect with future customers and people who
  will help your business grow.\nThe evening concludes with mouth water
 ing (and now legendary)canapés and a little more free networking. \n
 Thank  you to Haines Watts, chartered accountants, who are sponsoring
  January's event.\nThe number of tickets available is restricted to 35
 , so please don't delay in booking your place.\nEvent Organisers: Nic
 ola Macdonald of Attractive Marketing and Chris Webb of Strategic Fi
 nancial Portfolios are both established local businesses, sponsors and
  members of Dorking Rugby Club.  We wish to bring together local busi
 nesses and members of the club for the benefit of the community.  All
  profits raised go to Dorking Rugby Club, a charity that develops the
 ir junior players in due course to represent the First XV or to play t
 he game at a senior level elsewhere.\nFuture meetings will be held on 
 the second Thursday of every month.  \nSo if you can't make this one
  put a date in your diary for 12th February 2015.  Same time; same pl
 ace.  See you there. \nCOST: £15 \nBOOKING: Please CLICK HERE to 
 book your place\nMAP\nPlenty of free parking\n\nFor more information v
 isit https://networkinginsurrey.co.uk/events/dorking-rugby-club-evenin
 g-dorking-3
DTSTART;TZID=Europe/London:20150108T180000
DTEND;TZID=Europe/London:20150108T203000
CATEGORIES:networking, evening
LOCATION:Dorking Rugby Club, RH3 7LZ
WEBSITE:http://www.venuehiresurrey.co.uk/about/
URL:http://www.venuehiresurrey.co.uk/about/
CONTACT:07565 382803
ORGANIZER;CN="Nicola Macdonald":https://networkinginsurrey.co.uk/profi
 le/NicolaMacdonald
ATTACH;FMTTYPE="image/jpeg":http://storage.ning.com/topology/rest/1.0/
 file/get/2591434032?profile=original
END:VEVENT
END:VCALENDAR
