BEGIN:VCALENDAR
PRODID:NingEventWidget-v1
VERSION:2.0
METHOD:PUBLISH
BEGIN:VTIMEZONE
TZID:Europe/London
X-LIC-LOCATION:Europe/London
BEGIN:DAYLIGHT
TZOFFSETFROM:+0000
TZOFFSETTO:+0100
TZNAME:BST
DTSTART:19700329T010000
RRULE:FREQ=YEARLY;BYMONTH=3;BYDAY=-1SU
END:DAYLIGHT
BEGIN:STANDARD
TZOFFSETFROM:+0100
TZOFFSETTO:+0000
TZNAME:GMT
DTSTART:19701025T020000
RRULE:FREQ=YEARLY;BYMONTH=10;BYDAY=-1SU
END:STANDARD
END:VTIMEZONE
BEGIN:VEVENT
UID:4626108:Event:69671
DTSTAMP:20260423T125232Z
SUMMARY:Dorking Rugby Club Evening, Dorking
DESCRIPTION:Dorking Rugby Club Networking Evening... \n\nPlease come 
 and join us for evening business networking at Dorking Rugby Club (DRF
 C).\nEnjoy a welcome drink and informal networking on arrival. You'll 
 then have the opportunity for deeper networking, explaining how you he
 lp your clients, at three rotating table sessions. \nThis is your cha
 nce to make an impact and connect with future customers and people who
  will help your business grow.\nThe evening concludes with mouth water
 ing canapés and a little more free networking. \nAnd this month, bei
 ng the festive season, we've thrown in a little twist.\nDuring the eve
 ning we have invited Robin White of Virgin Wines to suggest a few wi
 nes to taste. Try something you like and order in time for Christmas. 
 Job done!\nThe number of tickets available is restricted to 35, so ple
 ase don't delay in booking your place.\nEvent Organisers: Nicola Macd
 onald of Attractive Marketing and Chris Webb of Strategic Financial 
 Portfolios are both established local businesses, sponsors and members
  of Dorking Rugby Club.  We wish to bring together local businesses a
 nd members of the club for the benefit of the community.\nFuture meeti
 ngs will be held on the second Thursday of every month.  \nSo if you
  can't make this one put a date in your diary for 8th January 2015.  
 Same time; same place.  See you there. \nCOST: £15 \nBOOKING: Plea
 se CLICK HERE to book your place\nMAP\nPlenty of free parking\n\nFor 
 more information visit https://networkinginsurrey.co.uk/events/dorking
 -rugby-club-evening-dorking-2
DTSTART;TZID=Europe/London:20141211T180000
DTEND;TZID=Europe/London:20141211T203000
CATEGORIES:networking, evening
LOCATION:Dorking Rugby Club, RH3 7LZ
WEBSITE:http://www.venuehiresurrey.co.uk/about/
URL:http://www.venuehiresurrey.co.uk/about/
CONTACT:07565 382803
ORGANIZER;CN="Nicola Macdonald":https://networkinginsurrey.co.uk/profi
 le/NicolaMacdonald
ATTACH;FMTTYPE="image/jpeg":http://storage.ning.com/topology/rest/1.0/
 file/get/2591434032?profile=original
ATTENDEE;ROLE=REQ-PARTICIPANT;PARTSTAT=ACCEPTED;RSVP=TRUE;CN="Nicola M
 acdonald":https://networkinginsurrey.co.uk/profile/NicolaMacdonald
END:VEVENT
END:VCALENDAR
