BEGIN:VCALENDAR
PRODID:NingEventWidget-v1
VERSION:2.0
METHOD:PUBLISH
BEGIN:VTIMEZONE
TZID:Europe/London
X-LIC-LOCATION:Europe/London
BEGIN:DAYLIGHT
TZOFFSETFROM:+0000
TZOFFSETTO:+0100
TZNAME:BST
DTSTART:19700329T010000
RRULE:FREQ=YEARLY;BYMONTH=3;BYDAY=-1SU
END:DAYLIGHT
BEGIN:STANDARD
TZOFFSETFROM:+0100
TZOFFSETTO:+0000
TZNAME:GMT
DTSTART:19701025T020000
RRULE:FREQ=YEARLY;BYMONTH=10;BYDAY=-1SU
END:STANDARD
END:VTIMEZONE
BEGIN:VEVENT
UID:4626108:Event:74904
DTSTAMP:20260426T015843Z
SUMMARY:Dorking Rugby Club Evening, Dorking
DESCRIPTION:\nDorking Rugby Club NetworkingÂ \nPlease come and join us
  for evening business networking at Dorking Rugby Club (DRFC).\n'It's 
 a refreshing way to network'.\nOur very engaging and fun format makes 
 it ever so easy (and not at all scary!) for you to have meaningful con
 versations about you and your business.\nIf you want to grow your netw
 ork, make some great connections and have an enjoyable evening at the 
 same time, please do join us. Oh and Sam's mouthwatering canapÃ©s are 
 becoming quite famous!\n\nWhat's the format that's so refreshing? It g
 oes like this:\n\nTHE FORWARDS - Choose your welcome drink from the ba
 r and start chatting\n THE SCRUM - This is where it gets interesting! 
 You will join three different tables of 4 people and have 5 minutes to
  talk about you, your business, how you help people and most important
 ly who you'd like to be introduced to.\n\nTHE BACKS - This is when Sam
 's mouthwatering canapÃ©s arrive. The bar is open so grab a drink and 
 carry on networking.\n\nWIN : WIN - Every penny we raise at this netwo
 rking event goes to Dorking Rugby Club.\n\nDorking RFC is a community 
 rugby club. They run teams from under 7 through to under 21 and then f
 our senior sides. In 2009, they became a registered charity (the first
  rugby club in England to do so). On the field they are committed to a
 mateur principles with a â€˜one club ethosâ€™ which aims to develop th
 eir junior players in due course to represent our First XV or to play 
 the game at a senior level elsewhere.\nThe number of tickets available
  is restricted to 35, so please don't delay in booking your place.\nEv
 ent Organisers:Â Nicola MacdonaldÂ of Attractive Marketing and Chris W
 ebbÂ of Strategic Financial Portfolios are both established local busi
 nesses, sponsors and members of Dorking Rugby Club. Â We wish to bring
  together local businesses and members of the club for the benefit of 
 the community.\nMeetings are on the second Thursday of every month.Â Â
  \nSo if you can't make this one put a date in your diary for 10th Dec
 ember 2015. Â Same time; same place. Â See you there.Â \nCOST: Â£15Â \
 nBOOKING: Please CLICK HEREÂ to book your place\nMAP\nPlenty of free p
 arking\n\nFor more information visit https://networkinginsurrey.co.uk/
 events/dorking-rugby-club-evening-dorking-12
DTSTART;TZID=Europe/London:20151112T180000
DTEND;TZID=Europe/London:20151112T203000
CATEGORIES:networking, evening
LOCATION:Dorking Rugby Club, RH3 7LZ
WEBSITE:http://www.venuehiresurrey.co.uk/about/
URL:http://www.venuehiresurrey.co.uk/about/
CONTACT:07565 382803
ORGANIZER;CN="Nicola Macdonald":https://networkinginsurrey.co.uk/profi
 le/NicolaMacdonald
ATTACH;FMTTYPE="image/jpeg":http://storage.ning.com/topology/rest/1.0/
 file/get/2591450551?profile=original
ATTENDEE;ROLE=REQ-PARTICIPANT;PARTSTAT=ACCEPTED;RSVP=TRUE;CN="Nicola M
 acdonald":https://networkinginsurrey.co.uk/profile/NicolaMacdonald
END:VEVENT
END:VCALENDAR
