BEGIN:VCALENDAR
PRODID:NingEventWidget-v1
VERSION:2.0
METHOD:PUBLISH
BEGIN:VTIMEZONE
TZID:Europe/London
X-LIC-LOCATION:Europe/London
BEGIN:DAYLIGHT
TZOFFSETFROM:+0000
TZOFFSETTO:+0100
TZNAME:BST
DTSTART:19700329T010000
RRULE:FREQ=YEARLY;BYMONTH=3;BYDAY=-1SU
END:DAYLIGHT
BEGIN:STANDARD
TZOFFSETFROM:+0100
TZOFFSETTO:+0000
TZNAME:GMT
DTSTART:19701025T020000
RRULE:FREQ=YEARLY;BYMONTH=10;BYDAY=-1SU
END:STANDARD
END:VTIMEZONE
BEGIN:VEVENT
UID:4626108:Event:68936
DTSTAMP:20260420T052731Z
SUMMARY:Dorking Rugby Club Evening, Dorking
DESCRIPTION:Dorking Rugby Club Networking Evening... \n\nPlease come 
 and join us for evening business networking at Dorking Rugby Club (DRF
 C).\nEnjoy a welcome drink and informal networking on arrival. You'll 
 then have the opportunity for deeper networking, explaining how you he
 lp your clients, at three rotating table sessions. \nThis is your cha
 nce to make an impact and connect with future customers and people who
  will help your business grow.\nThe evening concludes with mouth water
 ing canapés and a little more free networking. \nThe number of ticke
 ts available is restricted to 35, so please don't delay in booking you
 r place.\nEvent Organisers: Nicola Macdonald of Attractive Marketing 
 and Chris Webb of Strategic Financial Portfolios are both established 
 local businesses, sponsors and members of Dorking Rugby Club.  We wis
 h to bring together local businesses and members of the club for the b
 enefit of the community.\nFuture meetings will be held on the second T
 hursday of every month.  \nSo if you can't make this one put a date 
 in your diary for 11th December.  Same time; same place.  See you th
 ere. \nCOST: £15 \nBOOKING: Book your place via Eventbrite here\nM
 AP\nPlenty of free parking\n\nFor more information visit https://netwo
 rkinginsurrey.co.uk/events/dorking-rugby-club-evening-dorking-1
DTSTART;TZID=Europe/London:20141113T180000
DTEND;TZID=Europe/London:20141113T203000
CATEGORIES:dorking, evening
LOCATION:Dorking Rugby Club, RH3 7LZ
WEBSITE:http://www.venuehiresurrey.co.uk/about/
URL:http://www.venuehiresurrey.co.uk/about/
CONTACT:07565 382803
ORGANIZER;CN="Nicola Macdonald":https://networkinginsurrey.co.uk/profi
 le/NicolaMacdonald
ATTACH;FMTTYPE="image/jpeg":http://storage.ning.com/topology/rest/1.0/
 file/get/2591434032?profile=original
ATTENDEE;ROLE=REQ-PARTICIPANT;PARTSTAT=ACCEPTED;RSVP=TRUE;CN="Nicola M
 acdonald":https://networkinginsurrey.co.uk/profile/NicolaMacdonald
END:VEVENT
END:VCALENDAR
