BEGIN:VCALENDAR
PRODID:NingEventWidget-v1
VERSION:2.0
METHOD:PUBLISH
BEGIN:VTIMEZONE
TZID:Europe/London
X-LIC-LOCATION:Europe/London
BEGIN:DAYLIGHT
TZOFFSETFROM:+0000
TZOFFSETTO:+0100
TZNAME:BST
DTSTART:19700329T010000
RRULE:FREQ=YEARLY;BYMONTH=3;BYDAY=-1SU
END:DAYLIGHT
BEGIN:STANDARD
TZOFFSETFROM:+0100
TZOFFSETTO:+0000
TZNAME:GMT
DTSTART:19701025T020000
RRULE:FREQ=YEARLY;BYMONTH=10;BYDAY=-1SU
END:STANDARD
END:VTIMEZONE
BEGIN:VEVENT
UID:4626108:Event:463915
DTSTAMP:20260421T232416Z
SUMMARY:Dorking Connections Breakfast Time
DESCRIPTION:Dorking Connections Breakfast\nWith the help of our lovely
  venues, we're actually back to 'Covid-safe'  physical meetings agai
 n.\nSafety measures mean we can only cater for very limited numbers, s
 o for the time being we can only accommodate our Connect Surrey Member
 s - sorry! We'll keep you posted...\nOur Dorking meetings are run by P
 aul Bridgland & Abbie Sell - Business should be fun! Any questions, p
 lease call Paul on  07799 888388\n\nCOST: £15 meeting fee includin
 g breakfast\nBOOKING: Please CLICK HERE  to book\nCheck out our web
 site here...\nMAP\n----------------------------\n***OPEN SPECIALS! We
  will continue to run a FREE single weekly virtual meeting on Tuesd
 ays for the foreseeable future alongside our normal meetings, for thos
 e who are unable or prefer not to resume just yet ... and these will b
 e open to all - Members and Visitors alike! You'll find our Tuesday 
 meetings listed here on Networking in Surrey. ***\n\nFor more informat
 ion visit https://networkinginsurrey.co.uk/events/dorking-connections-
 breakfast-time-1
DTSTART;TZID=Europe/London:20201023T083000
DTEND;TZID=Europe/London:20201023T100000
CATEGORIES:regular, business, networking, meeting
LOCATION:The White Horse
WEBSITE:
URL:
CONTACT:07799888388
ORGANIZER;CN="Paul A Bridgland":https://networkinginsurrey.co.uk/profi
 le/PaulABridgland
ATTACH;FMTTYPE="image/jpeg":https://storage.ning.com/topology/rest/1.0
 /file/get/8015301065?profile=original
ATTENDEE;ROLE=REQ-PARTICIPANT;PARTSTAT=ACCEPTED;RSVP=TRUE;CN="Paul A B
 ridgland":https://networkinginsurrey.co.uk/profile/PaulABridgland
END:VEVENT
END:VCALENDAR
