BEGIN:VCALENDAR
PRODID:NingEventWidget-v1
VERSION:2.0
METHOD:PUBLISH
BEGIN:VTIMEZONE
TZID:Europe/London
X-LIC-LOCATION:Europe/London
BEGIN:DAYLIGHT
TZOFFSETFROM:+0000
TZOFFSETTO:+0100
TZNAME:BST
DTSTART:19700329T010000
RRULE:FREQ=YEARLY;BYMONTH=3;BYDAY=-1SU
END:DAYLIGHT
BEGIN:STANDARD
TZOFFSETFROM:+0100
TZOFFSETTO:+0000
TZNAME:GMT
DTSTART:19701025T020000
RRULE:FREQ=YEARLY;BYMONTH=10;BYDAY=-1SU
END:STANDARD
END:VTIMEZONE
BEGIN:VEVENT
UID:4626108:Event:539965
DTSTAMP:20260423T141648Z
SUMMARY:Connect Surrey Breakfast Live! Dorking
DESCRIPTION:Dorking Connections at Cafe Connect (at Silvermere Softpla
 y)\r\nConnectSurrey is a local business networking organisation - we r
 une regular fortnightly meetings in Guildford, Dorking, Woking and Far
 nham.\r\nOur meetings are fun, friendly but most importantly … produ
 ctive… business gets done! We always welcome new faces so why not co
 me and join us as visitor one day and make your own mind up.\r\nOur Do
 rking meetings are run by Paul Bridgland & Abbie Sell - Business shou
 ld be fun! Any questions, please call Paul on  07799 888388\r\n\r\nC
 OST: £17.50 meeting fee including breakfast\r\nBOOKING: Please foll
 ow this link...  to register for the meeting\r\nCheck out our websit
 e here...\r\nMAP\r\n\n\nFor more information visit https://networkingi
 nsurrey.co.uk/events/dorking-connections-breakfast-live-366
DTSTART;TZID=Europe/London:20231117T083000
DTEND;TZID=Europe/London:20231117T103000
CATEGORIES:regular, business, networking, meeting
LOCATION:Café Connect Silvermere Softplay RH4 1DX
WEBSITE:https://www.google.com/maps/place/The+White+Horse/@51.2324183,
 -0.3321992,17z/data=!4m16!1m7!3m6!1s0x4875e71cc3954ea5:0x5974735b4a3e2
 e71!2sDorking+RH4+1BE!3b1!8m2!3d51.2323293!4d-0.3300391!3m7!1s0x0:0x39
 968c43b8bdd752!5m2!4m1!1i2!8m2!3d51.2324617!4d-0.3302081?hl=en
URL:https://www.google.com/maps/place/The+White+Horse/@51.2324183,-0.3
 321992,17z/data=!4m16!1m7!3m6!1s0x4875e71cc3954ea5:0x5974735b4a3e2e71!
 2sDorking+RH4+1BE!3b1!8m2!3d51.2323293!4d-0.3300391!3m7!1s0x0:0x39968c
 43b8bdd752!5m2!4m1!1i2!8m2!3d51.2324617!4d-0.3302081?hl=en
CONTACT:07799888388
ORGANIZER;CN="Paul A Bridgland":https://networkinginsurrey.co.uk/profi
 le/PaulABridgland
ATTACH;FMTTYPE="image/jpeg":https://storage.ning.com/topology/rest/1.0
 /file/get/12293511876?profile=original
ATTENDEE;ROLE=REQ-PARTICIPANT;PARTSTAT=ACCEPTED;RSVP=TRUE;CN="Paul A B
 ridgland":https://networkinginsurrey.co.uk/profile/PaulABridgland
END:VEVENT
END:VCALENDAR
