BEGIN:VCALENDAR
PRODID:NingEventWidget-v1
VERSION:2.0
METHOD:PUBLISH
BEGIN:VTIMEZONE
TZID:Europe/London
X-LIC-LOCATION:Europe/London
BEGIN:DAYLIGHT
TZOFFSETFROM:+0000
TZOFFSETTO:+0100
TZNAME:BST
DTSTART:19700329T010000
RRULE:FREQ=YEARLY;BYMONTH=3;BYDAY=-1SU
END:DAYLIGHT
BEGIN:STANDARD
TZOFFSETFROM:+0100
TZOFFSETTO:+0000
TZNAME:GMT
DTSTART:19701025T020000
RRULE:FREQ=YEARLY;BYMONTH=10;BYDAY=-1SU
END:STANDARD
END:VTIMEZONE
BEGIN:VEVENT
UID:4626108:Event:47840
DTSTAMP:20260426T004651Z
SUMMARY:RELAUNCH 4Networking Breakfast, Staines
DESCRIPTION:Join us for our Relaunch Event at the Boleyn Hotel!\n\nWe'
 ve moved our well attended 4N breakfasts into Staines upon Thames itse
 lf at the Boleyn Hotel. Please come and celebrate this relaunch with 
 us!\nEnjoy social and business networking with a host of fresh contact
 s and visitors...\nNon-members can register here for FREE online mem
 bership to come along for a trial meeting!\n\nToday's 4Sight Slot Spe
 aker\nTat to Tweet\n\nRichard Woods (Yomp Marketing)\nDigital marketi
 ng\n \n \n \nCOST: £12 meeting fee including breakfast.\nBOOKING:P
 lease CLICK HERE to book or call me, Peter Dixon on 07771 984624 an
 d I'll do it for you. See you there!\nMAP   There is ample free park
 ing at the venue\n\n**** LAUNCH OFFER *** As a special launch offer, a
 nyone interested in joining 4 Networking as a member can get a full 20
 0 days for half price on the day, that's only £100 + VAT! Come and fi
 nd out if 4Networking suits you. Remember you can attend any one of 30
 0 groups (30 in and around Surrey!) in the UK.\n----------------------
 ------------------\n4Networking has 35,000 members and 300 linked bre
 akfast groups around the country. Following breakfast and the 4Sight s
 peaker, you'll then have 3, 10 minute appointments, these 1-1s work br
 illiantly and allow you to fast track new business relationships. The 
 group has an unstuffy culture, people attend because they want to, not
  because they have to. Members can attend any group in the country and
  anyone is welcome. See details on our website www.4networking.biz\n\
 nFor more information visit https://networkinginsurrey.co.uk/events/do
 n-t-miss-4networking-staines-relaunch
DTSTART;TZID=Europe/London:20120919T080000
DTEND;TZID=Europe/London:20120919T100000
CATEGORIES:premium, networking
LOCATION:The Anne Boleyn Hotel, Staines -upon-Thames
WEBSITE:http://www.boleynhotel.co.uk
URL:http://www.boleynhotel.co.uk
CONTACT:07771 984624
ORGANIZER;CN="Peter Dixon":https://networkinginsurrey.co.uk/profile/Pe
 terDixon
ATTACH;FMTTYPE="image/jpeg":http://storage.ning.com/topology/rest/1.0/
 file/get/2591391201?profile=original
ATTENDEE;ROLE=REQ-PARTICIPANT;PARTSTAT=ACCEPTED;RSVP=TRUE;CN="Peter Di
 xon":https://networkinginsurrey.co.uk/profile/PeterDixon
END:VEVENT
END:VCALENDAR
