BEGIN:VCALENDAR
PRODID:NingEventWidget-v1
VERSION:2.0
METHOD:PUBLISH
BEGIN:VTIMEZONE
TZID:Europe/London
X-LIC-LOCATION:Europe/London
BEGIN:DAYLIGHT
TZOFFSETFROM:+0000
TZOFFSETTO:+0100
TZNAME:BST
DTSTART:19700329T010000
RRULE:FREQ=YEARLY;BYMONTH=3;BYDAY=-1SU
END:DAYLIGHT
BEGIN:STANDARD
TZOFFSETFROM:+0100
TZOFFSETTO:+0000
TZNAME:GMT
DTSTART:19701025T020000
RRULE:FREQ=YEARLY;BYMONTH=10;BYDAY=-1SU
END:STANDARD
END:VTIMEZONE
BEGIN:VEVENT
UID:4626108:Event:68210
DTSTAMP:20260419T154017Z
SUMMARY:FREE DigitalSurrey Evening, Guildford
DESCRIPTION:DigitalSurrey Semantic Web Evening at the YMCA\n\nWe are e
 xcited to announce that the next DigitalSurrey free networking event w
 ill give you an insightful introduction to Web 3.0, the Semantic Web. 
 Semantic Web technologies enable people to create data stores on the W
 eb, build vocabularies, and write rules for handling data. You use the
  semantic web every day; you just don’t know it yet.\nWe’re still 
 adjusting to the changes wrought by Web 2.0, the social web. Our exper
 t speaker, Jarred McGinnis will present a gentle introduction to the
  semantic web and explain what it is, what the impact on business will
  be and how you can take advantage of it.\nJarred McGinnis is a consul
 tant in Semantic Technologies and visiting Research Fellow at King’s
  College London. Previously he was the Head of Research, Semantic Tech
 nologies, at the Press Association, investigating the role of technolo
 gies such as in the news industry. Dr. McGinnis received his PhD in In
 formatics from the University of Edinburgh in 2006.\nLook forward to s
 eeing you there!\nCOST: FREE to attend, but pre-booking is essential p
 lease\nBOOKING: Please CLICK HERE to book your free place - waiting l
 ist when full \nMAP\n-----------------------\nWelcoming all with an i
 nterest in the digital world, DigitalSurrey is a not for profit infor
 mal business community that exists for people to meet up, network, lea
 rn and share. The community aims to create and drive opportunity – t
 hrough sector-leading knowledge, diverse connections and a friendly co
 llaborative approach.\n\nFor more information visit https://networking
 insurrey.co.uk/events/digitalsurrey-october-2014
DTSTART;TZID=Europe/London:20141002T183000
DTEND;TZID=Europe/London:20141002T220000
CATEGORIES:evening, lecture, guildford
LOCATION:YMCA Guildford, Riverside suite GU1 4SB
WEBSITE:http://www.digitalsurrey.co.uk/
URL:http://www.digitalsurrey.co.uk/
CONTACT:01252 899950
ORGANIZER;CN="Emily Bateman":https://networkinginsurrey.co.uk/profile/
 EmilyBateman
ATTACH;FMTTYPE="image/jpeg":http://storage.ning.com/topology/rest/1.0/
 file/get/2591435688?profile=original
ATTENDEE;ROLE=REQ-PARTICIPANT;PARTSTAT=ACCEPTED;RSVP=TRUE;CN="Emily Ba
 teman":https://networkinginsurrey.co.uk/profile/EmilyBateman
END:VEVENT
END:VCALENDAR
