BEGIN:VCALENDAR
PRODID:NingEventWidget-v1
VERSION:2.0
METHOD:PUBLISH
BEGIN:VTIMEZONE
TZID:Europe/London
X-LIC-LOCATION:Europe/London
BEGIN:DAYLIGHT
TZOFFSETFROM:+0000
TZOFFSETTO:+0100
TZNAME:BST
DTSTART:19700329T010000
RRULE:FREQ=YEARLY;BYMONTH=3;BYDAY=-1SU
END:DAYLIGHT
BEGIN:STANDARD
TZOFFSETFROM:+0100
TZOFFSETTO:+0000
TZNAME:GMT
DTSTART:19701025T020000
RRULE:FREQ=YEARLY;BYMONTH=10;BYDAY=-1SU
END:STANDARD
END:VTIMEZONE
BEGIN:VEVENT
UID:4626108:Event:73018
DTSTAMP:20260419T162537Z
SUMMARY:FREE DigitalSurrey Evening, Guildford
DESCRIPTION:DigitalSurrey: Making video work for you and your business
 \n\nTechnical Director, Chris Lloyd, from 27Partners will take you 
 on a journey that will reveal the latest video solutions to improve bu
 siness communications, training and content production. We all know th
 e value achieved through video when communicating core messages, but C
 hris will take this to the next level ensuring we are maximising its e
 ffectiveness.\nTopics covered:\n\nInteractive video and apps\nPrivate 
 video portals\nWebcasting solutions\nPeer-to-peer technology to solve 
 bandwidth constraints in large companies\nLarge scale archiving and se
 arching of video content\n\nPlease arrive at the Mandolay Hotel, Lon
 don and York room at 6.30pm for drinks and networking before the speak
 er kicks off at 7:15pm.\nCOST: FREE to attend, but pre-booking is esse
 ntial please\nBOOKING: Please CLICK HERE to book your free place - wa
 iting list when full \nMAP\nLook forward to seeing you there!\n------
 -----------------------------------------------------\nSponsor: Wireh
 ive are digital agency hosting specialists. \n\n--------------------
 ---------\nWelcoming all with an interest in the digital world, Digita
 lSurrey is a not for profit informal business community that exists f
 or people to meet up, network, learn and share. The community aims to 
 create and drive opportunity – through sector-leading knowledge, div
 erse connections and a friendly collaborative approach.\n\nFor more in
 formation visit https://networkinginsurrey.co.uk/events/digitalsurrey-
 june-2015
DTSTART;TZID=Europe/London:20150611T183000
DTEND;TZID=Europe/London:20150611T210000
CATEGORIES:evening, lecture, networking, guildford
LOCATION:The Mandolay Hotel GU1 2AE
WEBSITE:http://www.digitalsurrey.co.uk/
URL:http://www.digitalsurrey.co.uk/
CONTACT:01252 899 950
ORGANIZER;CN="Emily Bateman":https://networkinginsurrey.co.uk/profile/
 EmilyBateman
ATTACH;FMTTYPE="image/jpeg":http://storage.ning.com/topology/rest/1.0/
 file/get/2591435688?profile=original
ATTENDEE;ROLE=REQ-PARTICIPANT;PARTSTAT=ACCEPTED;RSVP=TRUE;CN="Emily Ba
 teman":https://networkinginsurrey.co.uk/profile/EmilyBateman
END:VEVENT
END:VCALENDAR
