BEGIN:VCALENDAR
PRODID:NingEventWidget-v1
VERSION:2.0
METHOD:PUBLISH
BEGIN:VTIMEZONE
TZID:Europe/London
X-LIC-LOCATION:Europe/London
BEGIN:DAYLIGHT
TZOFFSETFROM:+0000
TZOFFSETTO:+0100
TZNAME:BST
DTSTART:19700329T010000
RRULE:FREQ=YEARLY;BYMONTH=3;BYDAY=-1SU
END:DAYLIGHT
BEGIN:STANDARD
TZOFFSETFROM:+0100
TZOFFSETTO:+0000
TZNAME:GMT
DTSTART:19701025T020000
RRULE:FREQ=YEARLY;BYMONTH=10;BYDAY=-1SU
END:STANDARD
END:VTIMEZONE
BEGIN:VEVENT
UID:4626108:Event:1544
DTSTAMP:20260426T004636Z
SUMMARY:'Design Tips to Build Your Brand' Morning Workshop, Ripley
DESCRIPTION:'Design Tips to Build Your Brand'\n\nThe sad fact is that 
 most companies ‘break’ their brand image because they lack a basic
  understanding of graphic design. They spend hundreds, sometimes thous
 ands, of pounds developing a great corporate identity, only to undermi
 ne that investment by the work they produce in house. You didn’t sta
 rt a business to become your own graphic designer, but every time you 
 create that report, checklist, poster, letter, advert or case study yo
 u’re unwittingly creating a piece of design. Isn’t it about time y
 ou learned how to do it properly? If great design attracts, engages an
 d inspires, what effect do you think bad design will have on your busi
 ness?\n This workshop will show you how to close the gap between your 
 professionally designed literature, and the pieces you create yourself
 . It’s not about replacing the great creative work your graphic desi
 gner does, it’s about showing you how you can build, not break, your
  brand.\nWho Should Attend? Every single business owner or marketing e
 xecutive who creates leaflets, posters, PowerPoint slides or handouts 
 themselves. You might create every piece of marketing literature yours
 elf; or perhaps you use a design agency for the majority of your creat
 ive work and just create tenders or handouts yourself: whatever your s
 ituation, if you create marketing literature that clients see, you nee
 d to be on this course! We’ll give you a set of simple to follow rul
 es that you can apply to make all of your business communication more 
 effective.\nCOST: £97 plus VAT BOOK HERE Special Offer : Book two wee
 ks or more in advance and save £20. (Discount is automatically added 
 at check-out). For more information please call 01483 401818\n“An ex
 cellent seminar, useful information, well presented. I would recommend
  it to anyone without hesitation” Angus MacPherson, Surrey Courier S
 ervices\n“A really useful morning. I now understand the basic concep
 ts of design and know the pitfalls to avoid” Nick Lumb, Profitabilit
 y Solutions Ltd \nVENUE\nMAP There is ample parking in the Talbot Inn'
 s own car park.\n------------------------------\nNetworkingInSurrey.co
 m allows Members to submit publicity for their own commercial events, 
 which we moderate before posting. These events are clearly labelled ME
 MBER PROMOTION and may include networkng opportunities. This event was
  posted by NiS Member Rona Wheeldon.\n\nFor more information visit htt
 ps://networkinginsurrey.co.uk/events/design-tips-to-build-your
DTSTART;TZID=Europe/London:20100423T091500
DTEND;TZID=Europe/London:20100423T130000
CATEGORIES:workshop, training
LOCATION:The Talbot Inn, Ripley GU23 6BB
WEBSITE:
URL:
CONTACT:01483 401818
ORGANIZER:Fiona Humberstone : Flourish
ATTACH;FMTTYPE="image/jpeg":http://storage.ning.com/topology/rest/1.0/
 file/get/2591377754?profile=original
END:VEVENT
END:VCALENDAR
