BEGIN:VCALENDAR
PRODID:NingEventWidget-v1
VERSION:2.0
METHOD:PUBLISH
BEGIN:VTIMEZONE
TZID:Europe/London
X-LIC-LOCATION:Europe/London
BEGIN:DAYLIGHT
TZOFFSETFROM:+0000
TZOFFSETTO:+0100
TZNAME:BST
DTSTART:19700329T010000
RRULE:FREQ=YEARLY;BYMONTH=3;BYDAY=-1SU
END:DAYLIGHT
BEGIN:STANDARD
TZOFFSETFROM:+0100
TZOFFSETTO:+0000
TZNAME:GMT
DTSTART:19701025T020000
RRULE:FREQ=YEARLY;BYMONTH=10;BYDAY=-1SU
END:STANDARD
END:VTIMEZONE
BEGIN:VEVENT
UID:4626108:Event:69877
DTSTAMP:20260419T150017Z
SUMMARY:Depth Business Networking Group
DESCRIPTION:Depth Business Networking Group\n\nCome and join us on F
 riday 9th January at 12.30pm lunch and plenty of good company at The 
 Village Hotel, Farnborough - the perfect place to network with other
  local business people!\nThis monthly networking event is run by DeVer
 e Village Hotel, Barons BMW Mini, Farnborough, thebestof Aldershot & F
 arnborough and Phyllis Tuckwell Hospice. \nThe guest speaker this mon
 th is Stuart Morrison from Mister Metric, with a talk titled \" \"Ten 
 reasons why your website sucks....and what to do about it!\".\nEveryth
 ing you know about web design is wrong and the only person earning any
 thing out of your website is probably your web designer. In his talk S
 tuart Morrison shows you 10 ways to improve the chances of increasing 
 leads and enquiries from your website. \nFor more information please 
 give us a call on 01252 217101.\nCOST: Tickets are just £15 which 
 includes lunch, tea and coffee.\nBOOKING: Please CLICK HERE to book 
 your place\nMAP\n\nFor more information visit https://networkinginsurr
 ey.co.uk/events/depth-business-networking-group-9
DTSTART;TZID=Europe/London:20150109T123000
DTEND;TZID=Europe/London:20150109T143000
CATEGORIES:networking
LOCATION:The Village Hotel GU14 7BF
WEBSITE:http://www.depth.org.uk
URL:http://www.depth.org.uk
CONTACT:01252 217101
ORGANIZER;CN="Carly Baker":https://networkinginsurrey.co.uk/profile/Ca
 rlyBaker
ATTACH;FMTTYPE="image/jpeg":http://storage.ning.com/topology/rest/1.0/
 file/get/2591422075?profile=original
ATTENDEE;ROLE=REQ-PARTICIPANT;PARTSTAT=ACCEPTED;RSVP=TRUE;CN="Carly Ba
 ker":https://networkinginsurrey.co.uk/profile/CarlyBaker
END:VEVENT
END:VCALENDAR
