BEGIN:VCALENDAR
PRODID:NingEventWidget-v1
VERSION:2.0
METHOD:PUBLISH
BEGIN:VTIMEZONE
TZID:Europe/London
X-LIC-LOCATION:Europe/London
BEGIN:DAYLIGHT
TZOFFSETFROM:+0000
TZOFFSETTO:+0100
TZNAME:BST
DTSTART:19700329T010000
RRULE:FREQ=YEARLY;BYMONTH=3;BYDAY=-1SU
END:DAYLIGHT
BEGIN:STANDARD
TZOFFSETFROM:+0100
TZOFFSETTO:+0000
TZNAME:GMT
DTSTART:19701025T020000
RRULE:FREQ=YEARLY;BYMONTH=10;BYDAY=-1SU
END:STANDARD
END:VTIMEZONE
BEGIN:VEVENT
UID:4626108:Event:10811
DTSTAMP:20260422T172056Z
SUMMARY:Croydon Twestival - Evening Charity Tweetup, Purley
DESCRIPTION: Croydon Twestival at Cafe Nino\nTwestival is a global da
 te where Twitter users come together to network in person and raise mo
 ney for charity.\nCroydon Twestival will be at Cafe Nino, Purley, orga
 nised by Jonny Rose. There will be fundraising activities during the e
 vening for the South East Cancer Help Centre - so if you can't make i
 t along, please donate here.\nCOST: £3 on the door for the charity\n
 TO BOOK: Go online for full details, and to register here at Jonny Ros
 e's  Croydon Twestival blog\nMAP\n\nFor more information visit https
 ://networkinginsurrey.co.uk/events/croydon-twestival-evening
DTSTART;TZID=Europe/London:20110324T190000
DTEND;TZID=Europe/London:20110324T230000
CATEGORIES:fundraiser, tweetup, twestival
LOCATION:Cafe Nino, Purley CR8 2BP
WEBSITE:http://http//bit.ly/fvGUN2
URL:http://http//bit.ly/fvGUN2
CONTACT:
ORGANIZER:Jonny Rose
ATTACH;FMTTYPE="image/jpeg":http://storage.ning.com/topology/rest/1.0/
 file/get/2591391191?profile=original
ATTENDEE;ROLE=REQ-PARTICIPANT;PARTSTAT=ACCEPTED;RSVP=TRUE;CN="Wendy Ag
 er":https://networkinginsurrey.co.uk/profile/WendyAger
END:VEVENT
END:VCALENDAR
