BEGIN:VCALENDAR
PRODID:NingEventWidget-v1
VERSION:2.0
METHOD:PUBLISH
BEGIN:VTIMEZONE
TZID:Europe/London
X-LIC-LOCATION:Europe/London
BEGIN:DAYLIGHT
TZOFFSETFROM:+0000
TZOFFSETTO:+0100
TZNAME:BST
DTSTART:19700329T010000
RRULE:FREQ=YEARLY;BYMONTH=3;BYDAY=-1SU
END:DAYLIGHT
BEGIN:STANDARD
TZOFFSETFROM:+0100
TZOFFSETTO:+0000
TZNAME:GMT
DTSTART:19701025T020000
RRULE:FREQ=YEARLY;BYMONTH=10;BYDAY=-1SU
END:STANDARD
END:VTIMEZONE
BEGIN:VEVENT
UID:4626108:Event:75447
DTSTAMP:20260425T212455Z
SUMMARY:FREE Croydon Tweetup Evening
DESCRIPTION:Tweetup at Matthews Yard!\n\nNo agenda, no fee. Just a soc
 ial.   Turn up for as long or little time as you like to meet other s
 ociable Croydon locals.\nAny socialites working or living or with an i
 nterest in Croydon are welcome to come along to meetup in Croydon mont
 hly at the great community hub, workshpace & cafe that is Matthews Yar
 d.  Sometimes there's less than 10 of us, but sometimes up to 20.\n\n
 \nJust off Surrey Street with a great menu, if you want to eat and rea
 sonably priced drinks, this is just a pop-in meeting. Buy your own dr
 inks/food & enjoy.\nWe have established a few 'regulars' since startin
 g this up the Croydon Tweetups regularly here in 2014 and are very wel
 coming to anyone new.\n\nfind us at the bar or if there's not too many
  of us we'll be seated - just ask at the bar.For more info, please ema
 il me Wendy Ager - Wendy@GetBetterCoaching.co.uk\n\nCOST: FREE\nBOOK
 ING: No need to book - just show up! \nMAP\n\nFor more information vi
 sit https://networkinginsurrey.co.uk/events/croydon-tweetup
DTSTART;TZID=Europe/London:20151118T193000
DTEND;TZID=Europe/London:20151118T220000
CATEGORIES:social, community, small, business, networking
LOCATION:Matthews Yard
WEBSITE:https://www.google.co.uk/maps/place/Matthews+Yard/@51.3721948,
 -0.1033911,17z/data=!3m1!4b1!4m2!3m1!1s0x48760736c31ec91d:0xba1a607687
 ed22b?hl=en
URL:https://www.google.co.uk/maps/place/Matthews+Yard/@51.3721948,-0.1
 033911,17z/data=!3m1!4b1!4m2!3m1!1s0x48760736c31ec91d:0xba1a607687ed22
 b?hl=en
CONTACT:07900 806571
ORGANIZER;CN="Wendy Ager":https://networkinginsurrey.co.uk/profile/Wen
 dyAger
ATTACH;FMTTYPE="image/jpeg":http://storage.ning.com/topology/rest/1.0/
 file/get/2591435146?profile=original
ATTENDEE;ROLE=REQ-PARTICIPANT;PARTSTAT=ACCEPTED;RSVP=TRUE;CN="Wendy Ag
 er":https://networkinginsurrey.co.uk/profile/WendyAger
END:VEVENT
END:VCALENDAR
