BEGIN:VCALENDAR
PRODID:NingEventWidget-v1
VERSION:2.0
METHOD:PUBLISH
BEGIN:VTIMEZONE
TZID:Europe/London
X-LIC-LOCATION:Europe/London
BEGIN:DAYLIGHT
TZOFFSETFROM:+0000
TZOFFSETTO:+0100
TZNAME:BST
DTSTART:19700329T010000
RRULE:FREQ=YEARLY;BYMONTH=3;BYDAY=-1SU
END:DAYLIGHT
BEGIN:STANDARD
TZOFFSETFROM:+0100
TZOFFSETTO:+0000
TZNAME:GMT
DTSTART:19701025T020000
RRULE:FREQ=YEARLY;BYMONTH=10;BYDAY=-1SU
END:STANDARD
END:VTIMEZONE
BEGIN:VEVENT
UID:4626108:Event:46178
DTSTAMP:20260426T023440Z
SUMMARY:MEMBER PROMO: FREE Social Media & Wealth Creation Evening, Cro
 ydon
DESCRIPTION:Discover Spinglo at The Jolly Farmers\n\nSynkronice are th
 e creators of Spinglo and deliver the most exciting business opportun
 ity of the digital age, and social networks with the best bonusplan in
  the network marketing industry. Spinglo has hit a new record in socia
 l media, and exceeded over a million friends in less than six months!\
 nCOST: FREE - all welcome\nBOOKING: Please CLICK HERE to claim your f
 ree place\nMAP\nYour host is NiS Member Soraya Anderson - Synkronice 
 Platina Executive 1 Star (Level 6)\n\nI worked as a Beauty Therapist f
 or 18 years doing long hours for little money until I discovered Netwo
 rk Marketing.  Having 2 small children I was looking for flexibility 
 where I could be there to see my children grow up and have a good inco
 me. Network Marketing has enabled my children to go to private school 
 and live in one of the most desirable places in Surrey. \n \nI was r
 ecently introduced to Synkronice by my good friend Gerwyn and within a
  few months became the first woman in the UK to reach level 6 Platina 
 Executive. After 15 years in the industry I am grateful to be with an 
 ethical, sincere Company where the average person can truly succeed.\n
 \n \n\nFor more information visit https://networkinginsurrey.co.uk/ev
 ents/croydon-social-media-wealth-creation-event
DTSTART;TZID=Europe/London:20120904T193000
DTEND;TZID=Europe/London:20120904T213000
CATEGORIES:social, media, and, wealth, creation
LOCATION:The Jolly Farmers  CR8 2HA
WEBSITE:http://www.socialmediacroydon.eventbrite.com
URL:http://www.socialmediacroydon.eventbrite.com
CONTACT:07804 693122
ORGANIZER;CN="Soraya Anderson":https://networkinginsurrey.co.uk/profil
 e/SorayaAnderson
ATTACH;FMTTYPE="image/jpeg":http://storage.ning.com/topology/rest/1.0/
 file/get/2591402095?profile=original
ATTENDEE;ROLE=REQ-PARTICIPANT;PARTSTAT=ACCEPTED;RSVP=TRUE;CN="Soraya A
 nderson":https://networkinginsurrey.co.uk/profile/SorayaAnderson
END:VEVENT
END:VCALENDAR
