BEGIN:VCALENDAR
PRODID:NingEventWidget-v1
VERSION:2.0
METHOD:PUBLISH
BEGIN:VTIMEZONE
TZID:Europe/London
X-LIC-LOCATION:Europe/London
BEGIN:DAYLIGHT
TZOFFSETFROM:+0000
TZOFFSETTO:+0100
TZNAME:BST
DTSTART:19700329T010000
RRULE:FREQ=YEARLY;BYMONTH=3;BYDAY=-1SU
END:DAYLIGHT
BEGIN:STANDARD
TZOFFSETFROM:+0100
TZOFFSETTO:+0000
TZNAME:GMT
DTSTART:19701025T020000
RRULE:FREQ=YEARLY;BYMONTH=10;BYDAY=-1SU
END:STANDARD
END:VTIMEZONE
BEGIN:VEVENT
UID:4626108:Event:68607
DTSTAMP:20260421T104059Z
SUMMARY:FREE Croydon Evening Meet Up (Tweetup)
DESCRIPTION:Tweetup at Matthews Yard!\n\nNo agenda, no fee. Just a soc
 ial.   Turn up for as long or little time as you like to meet other s
 ociable Croydon locals.\n\nAsk at the bar if you can't find us!\nWendy
 , Ania & Steph from Dot Social\n@DotSocialise\n\nCOST: FREE\nBOOKING: 
 No need to book - just show up! You can let us know you're coming by c
 licking here and using the 'Count me in!' button\nMAP\n\nFor more in
 formation visit https://networkinginsurrey.co.uk/events/croydon-meet-u
 p-tweetup
DTSTART;TZID=Europe/London:20141008T191500
DTEND;TZID=Europe/London:20141008T223000
CATEGORIES:croydon, social, free
LOCATION:Matthews Yard
WEBSITE:http://twtvite.com/TweetupOct14
URL:http://twtvite.com/TweetupOct14
CONTACT:07900 806571
ORGANIZER;CN="Wendy Ager":https://networkinginsurrey.co.uk/profile/Wen
 dyAger
ATTACH;FMTTYPE="image/jpeg":http://storage.ning.com/topology/rest/1.0/
 file/get/2591435146?profile=original
ATTENDEE;ROLE=REQ-PARTICIPANT;PARTSTAT=ACCEPTED;RSVP=TRUE;CN="Wendy Ag
 er":https://networkinginsurrey.co.uk/profile/WendyAger
END:VEVENT
END:VCALENDAR
