BEGIN:VCALENDAR
PRODID:NingEventWidget-v1
VERSION:2.0
METHOD:PUBLISH
BEGIN:VTIMEZONE
TZID:Europe/London
X-LIC-LOCATION:Europe/London
BEGIN:DAYLIGHT
TZOFFSETFROM:+0000
TZOFFSETTO:+0100
TZNAME:BST
DTSTART:19700329T010000
RRULE:FREQ=YEARLY;BYMONTH=3;BYDAY=-1SU
END:DAYLIGHT
BEGIN:STANDARD
TZOFFSETFROM:+0100
TZOFFSETTO:+0000
TZNAME:GMT
DTSTART:19701025T020000
RRULE:FREQ=YEARLY;BYMONTH=10;BYDAY=-1SU
END:STANDARD
END:VTIMEZONE
BEGIN:VEVENT
UID:4626108:Event:74605
DTSTAMP:20260426T032347Z
SUMMARY:We Mean Business, Croydon
DESCRIPTION:'We Mean Business' Exhibition\n\nCome and join us at the W
 e Mean Business Exhibition at the Fairfield Halls.\nStart the day with
  theÂ VIP Networking BreakfastÂ hosted by the Federation of Small Busi
 nesses.\nWe are delighted to announce that Gavin Barwell, the MPÂ forÂ
  CroydonÂ Central, will be guest speaker at the event.\nTickets are pr
 iced Â£25 although there are discounts forÂ FSBÂ members and We Mean B
 usiness Expo exhibitors.Â To get your discount code email Viv Newbould
  atÂ vnewbould@wlcreative.org.uk\nVisit the fantastic variety of exhib
 itors we have or maybe attend an inspirational seminar.Â \nCOST: FREE 
 to attend\nBOOKING: Please CLICK HEREÂ to register to attend as a free
  Visitor andÂ here for the VIP BreakfastÂ (Â£25 -aee above for FSB Mem
 ber discounts)\nMAP\nHead for Croydon Town Centre and follow the signp
 osts for Fairfield Halls. Fairfield is on the roundabout at the meetin
 g of the A212 and the A232. The postcode is CR9 1DG.\nA large multi-st
 orey car park, operated by NCP, is at the back of Fairfield and access
 ed from Barclay Road, and charges are 1 Hour Â£ 2.00; 1 To 2 Hours Â£ 
 4.00; 2 To 3 Hours Â£ 6.00; 3 To 4 Hours Â£ 8.00; 4 To 5 Hours Â£ 10.0
 0\n\nFor more information visit https://networkinginsurrey.co.uk/event
 s/croydon-means-business
DTSTART;TZID=Europe/London:20151014T100000
DTEND;TZID=Europe/London:20151014T160000
CATEGORIES:business, to, exhibition
LOCATION:Fairfield Halls CR9 1DG
WEBSITE:
URL:
CONTACT:
ORGANIZER:FSB
ATTACH;FMTTYPE="image/jpeg":http://storage.ning.com/topology/rest/1.0/
 file/get/2591447116?profile=original
ATTENDEE;ROLE=REQ-PARTICIPANT;PARTSTAT=ACCEPTED;RSVP=TRUE;CN="Derek Wi
 lliamson":https://networkinginsurrey.co.uk/profile/DerekWilliamson
END:VEVENT
END:VCALENDAR
