BEGIN:VCALENDAR
PRODID:NingEventWidget-v1
VERSION:2.0
METHOD:PUBLISH
BEGIN:VTIMEZONE
TZID:Europe/London
X-LIC-LOCATION:Europe/London
BEGIN:DAYLIGHT
TZOFFSETFROM:+0000
TZOFFSETTO:+0100
TZNAME:BST
DTSTART:19700329T010000
RRULE:FREQ=YEARLY;BYMONTH=3;BYDAY=-1SU
END:DAYLIGHT
BEGIN:STANDARD
TZOFFSETFROM:+0100
TZOFFSETTO:+0000
TZNAME:GMT
DTSTART:19701025T020000
RRULE:FREQ=YEARLY;BYMONTH=10;BYDAY=-1SU
END:STANDARD
END:VTIMEZONE
BEGIN:VEVENT
UID:4626108:Event:73279
DTSTAMP:20260419T220515Z
SUMMARY:Cranleigh Connections Breakfast, Cranleigh
DESCRIPTION:\n\n\nabout us\nOur newest Connections group, held at The 
 Richard Onslow in Cranleigh on every 3rd Tuesday of the month.\nthebes
 tofguildford are now established networkers, and are launching a brand
  new Networking group!\nWe cover Guildford, Godalming, and Cranleigh, 
 the latter being the only area where we don't have a Networking group.
 ... We do NOW!\nCurrent Members\n\nSally Castro Gouveia - Bestofguildf
 ord\nMatt Pereira Photography\nFran Bussell - The Pepperpot Magazine\n
 Jack Newman - Boo Design\nTony Carr - Suit The City\nPaul Way - Utilit
 y Warehouse\nJohn Taylor - The Richard Onslow\nRichard Swansea - Rosem
 ary Bookkeeping\nDavid Morton - Surrey Hills PC\nAnthony Goold - ISS 
 \n\nWe have launched our brand new Cranleigh connections Breakfast net
 working group! We meet every 3rd Tuesday of the month, at the Richard 
 Onslow pub in Cranleigh.\nMeetings cost £12.00 to attend, for which y
 ou will get a cooked breakfast, there will also be Tea & fresh Coffee 
 available. \nMeetings start 8.30am, and finish at 10.30, however we 
 ask our members to arrive around half an hour before the meeting begin
 s, giving you time to grab a warm drink, get comfortable and mingle wi
 th some of the other attendees.\n\n \"better to be networking, than n
 ot working\"\nCome and join us! \nCOST: £12.00 including cooked bre
 akfast, tea & fresh Coffee available. \nBOOKING: To add your name to 
 our visitors list, give us a call!\nMAP\n\n\nFor more information visi
 t https://networkinginsurrey.co.uk/events/cranleigh-connections-breakf
 ast-at-the-richard-onslow-1
DTSTART;TZID=Europe/London:20150616T083000
DTEND;TZID=Europe/London:20150616T100000
CATEGORIES:breakfast, networking
LOCATION:Breakfast Networking
WEBSITE:https://www.thebestof.co.uk/local/guildford/business-guide/fea
 ture/cranleigh-connections
URL:https://www.thebestof.co.uk/local/guildford/business-guide/feature
 /cranleigh-connections
CONTACT:07525 738758
ORGANIZER:Sally Castro Gouveia and Matt Pereira
ATTACH;FMTTYPE="image/jpeg":http://storage.ning.com/topology/rest/1.0/
 file/get/2591459000?profile=original
ATTENDEE;ROLE=REQ-PARTICIPANT;PARTSTAT=ACCEPTED;RSVP=TRUE;CN="Sally Ca
 stro Gouveia":https://networkinginsurrey.co.uk/profile/SallyCastroGouv
 eia
END:VEVENT
END:VCALENDAR
