BEGIN:VCALENDAR
PRODID:NingEventWidget-v1
VERSION:2.0
METHOD:PUBLISH
BEGIN:VTIMEZONE
TZID:Europe/London
X-LIC-LOCATION:Europe/London
BEGIN:DAYLIGHT
TZOFFSETFROM:+0000
TZOFFSETTO:+0100
TZNAME:BST
DTSTART:19700329T010000
RRULE:FREQ=YEARLY;BYMONTH=3;BYDAY=-1SU
END:DAYLIGHT
BEGIN:STANDARD
TZOFFSETFROM:+0100
TZOFFSETTO:+0000
TZNAME:GMT
DTSTART:19701025T020000
RRULE:FREQ=YEARLY;BYMONTH=10;BYDAY=-1SU
END:STANDARD
END:VTIMEZONE
BEGIN:VEVENT
UID:4626108:Event:103497
DTSTAMP:20260424T021851Z
SUMMARY:Cranleigh Afternoon Business Show
DESCRIPTION:Cranleigh Business Show\r\n\r\nThe afternoon Cranleigh Bus
 iness Show is your one stop shop for all your business needs. \r\nWhet
 her you’re at the early stages of starting a business and are lookin
 g for contacts and suppliers, or if you’re an established company lo
 oking to develop new business relationships, identify new suppliers an
 d increase your customer base, or even looking to relocate your busine
 ss, a visit to The Cranleigh Business Show is a must.\r\nExhibitors co
 ver all key areas of business, from online marketing specialists and g
 raphic designers, from accountants and legal experts to business netwo
 rks and support organisations and environmental consultants to IT serv
 ices, plus many more.\r\nCOST: FREE to attend as a Visitor \r\nBOOK
 ING: Please CLICK HERE to register as a free Visitor; Exhibitors C
 lick to BOOK A STAND for only £50 +VAT\r\nMAP\n\nFor more informati
 on visit https://networkinginsurrey.co.uk/events/cranleigh-business-sh
 ow
DTSTART;TZID=Europe/London:20190228T123000
DTEND;TZID=Europe/London:20190228T180000
CATEGORIES:business, expo
LOCATION:Cranleigh Village Hall GU6 8AF
WEBSITE:
URL:
CONTACT:
ORGANIZER:John Wright
ATTACH;FMTTYPE="image/jpeg":https://storage.ning.com/topology/rest/1.0
 /file/get/1043533742?profile=original
ATTENDEE;ROLE=REQ-PARTICIPANT;PARTSTAT=ACCEPTED;RSVP=TRUE;CN="Keith Gr
 over, NiS Founder":https://networkinginsurrey.co.uk/profile/KeithGrove
 r
END:VEVENT
END:VCALENDAR
