BEGIN:VCALENDAR
PRODID:NingEventWidget-v1
VERSION:2.0
METHOD:PUBLISH
BEGIN:VTIMEZONE
TZID:Europe/London
X-LIC-LOCATION:Europe/London
BEGIN:DAYLIGHT
TZOFFSETFROM:+0000
TZOFFSETTO:+0100
TZNAME:BST
DTSTART:19700329T010000
RRULE:FREQ=YEARLY;BYMONTH=3;BYDAY=-1SU
END:DAYLIGHT
BEGIN:STANDARD
TZOFFSETFROM:+0100
TZOFFSETTO:+0000
TZNAME:GMT
DTSTART:19701025T020000
RRULE:FREQ=YEARLY;BYMONTH=10;BYDAY=-1SU
END:STANDARD
END:VTIMEZONE
BEGIN:VEVENT
UID:4626108:Event:4050
DTSTAMP:20260425T160520Z
SUMMARY:'Copywriting Essentials' Morning Workshop, Guildford
DESCRIPTION:'Copywriting Essentials' Morning Workshop\n\nHow do you gr
 ab attention, entice the reader and galvanise a response?\nJoin Fiona 
 Humberstone of Flourish Design & Marketing on this morning workshop an
 d you’ll discover the secrets behind writing powerful copy for your 
 business and the simple steps that you can take to make sure that what
  you write encourages your clients to buy.\nWho Should Attend?\nAnyone
  responsible for writing for their business. Whether you need to write
  copy for your website, email newsletters, a company brochure or just 
 a sales letter, this introduction to copywriting will give you the con
 fidence and skills to write more effectively.\nCOST: £97 plus VAT\nSP
 ECIAL OFFER : £77 plus VAT, when you book before 1st October 2010\nBO
 OK HERE Alternatively, please call us on 01483 401 818.\nMAP\nHow Othe
 rs Have Benefitted from Flourishing Workshops:\n“The ‘13 headlines
 ’ section is potentially life changing!”Matt Pereira, Photographer
 \n\nFor more information visit https://networkinginsurrey.co.uk/events
 /copywriting-essentials-morning
DTSTART;TZID=Europe/London:20101014T091500
DTEND;TZID=Europe/London:20101014T130000
CATEGORIES:workshop, training
LOCATION:Flourish Studios GU2 4BE
WEBSITE:http://www.flourishstudios.co.uk/speaking/marketing-workshops/
 copywriting-essentials-workshop
URL:http://www.flourishstudios.co.uk/speaking/marketing-workshops/copy
 writing-essentials-workshop
CONTACT:01483 401 818
ORGANIZER:Fiona Humberstone : Flourish
ATTACH;FMTTYPE="image/jpeg":http://storage.ning.com/topology/rest/1.0/
 file/get/2591377754?profile=original
END:VEVENT
END:VCALENDAR
