BEGIN:VCALENDAR
PRODID:NingEventWidget-v1
VERSION:2.0
METHOD:PUBLISH
BEGIN:VTIMEZONE
TZID:Europe/London
X-LIC-LOCATION:Europe/London
BEGIN:DAYLIGHT
TZOFFSETFROM:+0000
TZOFFSETTO:+0100
TZNAME:BST
DTSTART:19700329T010000
RRULE:FREQ=YEARLY;BYMONTH=3;BYDAY=-1SU
END:DAYLIGHT
BEGIN:STANDARD
TZOFFSETFROM:+0100
TZOFFSETTO:+0000
TZNAME:GMT
DTSTART:19701025T020000
RRULE:FREQ=YEARLY;BYMONTH=10;BYDAY=-1SU
END:STANDARD
END:VTIMEZONE
BEGIN:VEVENT
UID:4626108:Event:526073
DTSTAMP:20260420T214439Z
SUMMARY:CLOCKS 'SPRING' FORWARD...
DESCRIPTION:In SPRING the clocks 'spring forward' (and in AUTUMN they 
 'Fall' back) so today 1 am becomes 2 am. \r\n In the UK the clocks go
  forward 1 hour at 1am on the last Sunday in March, and back 1 hour at
  2am on the last Sunday in October.  (This is our educational slot, b
 y the way!)\r\nAlthough GMT (Greenwich Mean Time) and UTC (Coordinat
 ed Universal Time) share the same current time in practice, there is
  a basic difference between the two:\r\nGMT is a time zone officially 
 used in some European and African countries. The time can be displayed
  using both the 24-hour format (0 - 24) or the 12-hour format (1 - 12 
 am/pm).\r\nUTC is not a time zone, but a time standard that is the bas
 is for civil time and time zones worldwide. This means that no country
  or territory officially uses UTC as a local time.\r\nUTC, GMT and Day
 light Saving Time...\r\nNeither UTC nor GMT ever change for Daylight S
 aving Time (DST). However, some of the countries that use GMT switch t
 o different time zones during their DST period.\r\nFor example, the Un
 ited Kingdom has British Summer Time (BST), which is one hour ahead of
  GMT, during the summer months.\r\n-----------------------------------
 \r\nIn Spring of 2019 MEPs voted to approve plans for European Union m
 ember states to abolish clock changes if they want.\r\nCountries are e
 xpected to choose to either remain permanently on summer or winter tim
 e, although Portugal and Greece are among those which have previously 
 indicated they would rather retain the present system.\r\nIt is more t
 han a 100 years since the changing the clocks was first established in
  the UK under the Summer Time Act 1916. Despite the results of the EU 
 survey suggesting that 82% of British respondents wanted to abolish DS
 T, there does not seem to be any great political will to do so. Which 
 means we can still all look forward to gaining an hour’s sleep when 
 the clocks go back again on Sunday 27 October.\r\nSource: The Guardian
  website here... \n\nFor more information visit https://networkingin
 surrey.co.uk/events/clocks-spring-forward-2
DTSTART;TZID=Europe/London:20210328T010000
DTEND;TZID=Europe/London:20210328T020000
CATEGORIES:clocks, change
LOCATION:Your place
WEBSITE:
URL:
CONTACT:
ORGANIZER:You!
ATTACH;FMTTYPE="image/jpeg":http://storage.ning.com/topology/rest/1.0/
 file/get/2591386471?profile=original
ATTENDEE;ROLE=REQ-PARTICIPANT;PARTSTAT=ACCEPTED;RSVP=TRUE;CN="Keith Gr
 over, NiS Founder":https://networkinginsurrey.co.uk/profile/KeithGrove
 r
END:VEVENT
END:VCALENDAR
