BEGIN:VCALENDAR
PRODID:NingEventWidget-v1
VERSION:2.0
METHOD:PUBLISH
BEGIN:VTIMEZONE
TZID:Europe/London
X-LIC-LOCATION:Europe/London
BEGIN:DAYLIGHT
TZOFFSETFROM:+0000
TZOFFSETTO:+0100
TZNAME:BST
DTSTART:19700329T010000
RRULE:FREQ=YEARLY;BYMONTH=3;BYDAY=-1SU
END:DAYLIGHT
BEGIN:STANDARD
TZOFFSETFROM:+0100
TZOFFSETTO:+0000
TZNAME:GMT
DTSTART:19701025T020000
RRULE:FREQ=YEARLY;BYMONTH=10;BYDAY=-1SU
END:STANDARD
END:VTIMEZONE
BEGIN:VEVENT
UID:4626108:Event:97118
DTSTAMP:20260423T040150Z
SUMMARY:CLOCKS 'SPRING' FORWARD...
DESCRIPTION:In SPRING the clocks 'spring forward' (and in AUTUMN they 
 'Fall' back) so today 1 am becomes 2 am. OK - will you lose an hours s
 leep? Or get up later than usual and have a little lie in... because y
 ou're worth it?!\r\n\r\nFor info - 2018 Bank and Public Holidays:\r\n\
 r\n\r\nNew Year's Day: Monday 1 January.\r\nGood Friday: Friday 30 Mar
 ch.\r\nEaster Monday: Monday 2 April.\r\nEarly May bank holiday: Monda
 y 7 May.\r\nSpring bank holiday: Monday 28 May.\r\nSummer bank holiday
 : Monday 27 August.\r\nChristmas Day: Tuesday 25 December.\r\nBoxing D
 ay: Wednesday 26 December.\r\n\r\n...and clocks go back Sunday 28 Octo
 ber\r\n\r\n\n\nFor more information visit https://networkinginsurrey.c
 o.uk/events/clocks-go-forward-5
DTSTART;TZID=Europe/London:20180325T010000
DTEND;TZID=Europe/London:20180325T020000
CATEGORIES:clocks, change
LOCATION:Your place
WEBSITE:http://www.woodlands-junior.kent.sch.uk/customs/questions/cloc
 ks.htm
URL:http://www.woodlands-junior.kent.sch.uk/customs/questions/clocks.h
 tm
CONTACT:
ORGANIZER:You!
ATTACH;FMTTYPE="image/jpeg":http://storage.ning.com/topology/rest/1.0/
 file/get/2591386471?profile=original
ATTENDEE;ROLE=REQ-PARTICIPANT;PARTSTAT=ACCEPTED;RSVP=TRUE;CN="Lord Ham
 ilton of Glencoe":https://networkinginsurrey.co.uk/profile/BrianIanHam
 ilton
ATTENDEE;ROLE=REQ-PARTICIPANT;PARTSTAT=ACCEPTED;RSVP=TRUE;CN="Keith Gr
 over, NiS Founder":https://networkinginsurrey.co.uk/profile/KeithGrove
 r
END:VEVENT
END:VCALENDAR
