BEGIN:VCALENDAR
PRODID:NingEventWidget-v1
VERSION:2.0
METHOD:PUBLISH
BEGIN:VTIMEZONE
TZID:Europe/London
X-LIC-LOCATION:Europe/London
BEGIN:DAYLIGHT
TZOFFSETFROM:+0000
TZOFFSETTO:+0100
TZNAME:BST
DTSTART:19700329T010000
RRULE:FREQ=YEARLY;BYMONTH=3;BYDAY=-1SU
END:DAYLIGHT
BEGIN:STANDARD
TZOFFSETFROM:+0100
TZOFFSETTO:+0000
TZNAME:GMT
DTSTART:19701025T020000
RRULE:FREQ=YEARLY;BYMONTH=10;BYDAY=-1SU
END:STANDARD
END:VTIMEZONE
BEGIN:VEVENT
UID:4626108:Event:101810
DTSTAMP:20260424T104136Z
SUMMARY:FREE Christmas Networking Evening with thebestof Epsom and Ewe
 ll and Surrey Chambers, Epsom
DESCRIPTION:Christmas Networking with thebestof Epsom & Ewell & Surrey
  Chambers at Global House\r\n\r\nSponsored by  Global House\r\n(City
  Skyline Ltd)\r\nWednesday 5th December\r\n\r\n5:30 to 8:00pm\r\nGloba
 l House, 1 Ashley Avenue, Epsom KT18 5AD\r\n\r\nJoin City Skyline at G
 lobal House for An Evening With Christmas networking on Wednesday 5th
  December at Global House, Ashley Avenue, Epsom, from 5.30pm until 8
 pm for an evening of fun and friendly networking.\r\nEnjoy Christmas c
 anapes and cocktails whilst taking part in an evening of networking wi
 th local businesses from Epsom, Ewell and the surrounding areas.\r\nTh
 is year we will also be joined by special guest Theo the Magician, who
  will be providing some magical entertainment on the evening.\r\nThe e
 vent is jointly promoted by thebestof Epsom and Ewell and Surrey Chamb
 ers and hosted by Global House.\r\nBOOK YOUR FREE PLACE NOW\r\nCOST: 
 FREE to attend (but booking is essential for catering purposes please
 !)\r\nBOOKING: Please CLICK HERE to register for your free place\r\n
 MAP\r\n\n\nFor more information visit https://networkinginsurrey.co.uk
 /events/christmas-networking-with-thebestof-epsom-amp-ewell-amp-surrey
DTSTART;TZID=Europe/London:20181205T173000
DTEND;TZID=Europe/London:20181205T200000
CATEGORIES:business, networking
LOCATION:Global House Epsom KT18 5AD
WEBSITE:https://www.eventbrite.co.uk/e/an-evening-with-christmas-netwo
 rking-2018-tickets-52666321385?aff=ebdssbdestsearch
URL:https://www.eventbrite.co.uk/e/an-evening-with-christmas-networkin
 g-2018-tickets-52666321385?aff=ebdssbdestsearch
CONTACT:01737 358044
ORGANIZER;CN="Nigel Stickland":https://networkinginsurrey.co.uk/profil
 e/NigelStickland
ATTACH;FMTTYPE="image/jpeg":https://storage.ning.com/topology/rest/1.0
 /file/get/180296123?profile=original
ATTENDEE;ROLE=REQ-PARTICIPANT;PARTSTAT=ACCEPTED;RSVP=TRUE;CN="Nigel St
 ickland":https://networkinginsurrey.co.uk/profile/NigelStickland
ATTENDEE;ROLE=REQ-PARTICIPANT;PARTSTAT=ACCEPTED;RSVP=TRUE;CN="Lord Ham
 ilton of Glencoe":https://networkinginsurrey.co.uk/profile/BrianIanHam
 ilton
END:VEVENT
END:VCALENDAR
