BEGIN:VCALENDAR
PRODID:NingEventWidget-v1
VERSION:2.0
METHOD:PUBLISH
BEGIN:VTIMEZONE
TZID:Europe/London
X-LIC-LOCATION:Europe/London
BEGIN:DAYLIGHT
TZOFFSETFROM:+0000
TZOFFSETTO:+0100
TZNAME:BST
DTSTART:19700329T010000
RRULE:FREQ=YEARLY;BYMONTH=3;BYDAY=-1SU
END:DAYLIGHT
BEGIN:STANDARD
TZOFFSETFROM:+0100
TZOFFSETTO:+0000
TZNAME:GMT
DTSTART:19701025T020000
RRULE:FREQ=YEARLY;BYMONTH=10;BYDAY=-1SU
END:STANDARD
END:VTIMEZONE
BEGIN:VEVENT
UID:4626108:Event:3187
DTSTAMP:20260425T160921Z
SUMMARY:ChildLine Community Fun Day
DESCRIPTION:ChildLine Community Fun Day\n\nCraft, Food/Produce, Charit
 y Stalls, Books, Games, Attractions, Community Exhibits, Arena Events,
  Classic cars, motorbikes and more.\n\nEntry fees: £1-Adults 50p-chil
 dren\n\nStalls available - email for more information: ashcfd@yahoo.co
 .uk\n\nTo register your classic car or motorbike email ashcfd@yahoo.co
 .uk\n\n12pm - 5pm\nMytchett Community Centre, 140 Mytchett Road, Mytch
 ett Nr. Camberley Surrey GU16 3AA\n\nSat 17 July\n\nFor more informati
 on visit https://networkinginsurrey.co.uk/events/childline-community-f
 un-day
DTSTART;TZID=Europe/London:20100717T120000
DTEND;TZID=Europe/London:20100717T170000
CATEGORIES:fundraiser
LOCATION:Mytchett Community Centre
WEBSITE:http://GU16 3AA
URL:http://GU16 3AA
CONTACT:ashcfd@yahoo.co.uk
ORGANIZER:Katy Jones
ATTACH;FMTTYPE="image/jpeg":
ATTENDEE;ROLE=REQ-PARTICIPANT;PARTSTAT=ACCEPTED;RSVP=TRUE;CN="Anne-Mar
 ie Stephens":https://networkinginsurrey.co.uk/profile/AnneMarieStephen
 s
ATTENDEE;ROLE=REQ-PARTICIPANT;PARTSTAT=ACCEPTED;RSVP=TRUE;CN="Annie He
 ggie":https://networkinginsurrey.co.uk/profile/Annie
END:VEVENT
END:VCALENDAR
