BEGIN:VCALENDAR
PRODID:NingEventWidget-v1
VERSION:2.0
METHOD:PUBLISH
BEGIN:VTIMEZONE
TZID:Europe/London
X-LIC-LOCATION:Europe/London
BEGIN:DAYLIGHT
TZOFFSETFROM:+0000
TZOFFSETTO:+0100
TZNAME:BST
DTSTART:19700329T010000
RRULE:FREQ=YEARLY;BYMONTH=3;BYDAY=-1SU
END:DAYLIGHT
BEGIN:STANDARD
TZOFFSETFROM:+0100
TZOFFSETTO:+0000
TZNAME:GMT
DTSTART:19701025T020000
RRULE:FREQ=YEARLY;BYMONTH=10;BYDAY=-1SU
END:STANDARD
END:VTIMEZONE
BEGIN:VEVENT
UID:4626108:Event:409420
DTSTAMP:20260421T174703Z
SUMMARY:FREE Chessington Business Expo Online
DESCRIPTION:Chessington Business Expo 2020\r\nAt the heart of local bu
 siness.\r\n\r\nis Now in its third year, the Chessington Expo was set 
 up to shine a light on the south of the borough, celebrate local busin
 ess and build a community through networking and support.\r\nUnfortuna
 tely the 2020 Expo cannot effectively take place as a face-to-face eve
 nt due to the pandemic.\r\nAfter taking the Kingston Business Expo suc
 cessfully online, we are committed to helping local businesses to enga
 ge, recover and grow stronger at this showcase event.Â  Â \r\nJoin us 
 for another fast paced, pro-active online experience on 23rd October 2
 020.\r\nThe Expo is focused on bringing the local business community t
 ogether, offering visitors the opportunity to network and build relati
 onships.Â \r\nAll businesses are welcome from large corporations, SMEâ
 €™s, to start-ups and entrepreneurs based in, or looking to do busines
 s in, the Borough.\r\nWe will also have valuable business seminars and
  inspiring local success stories, round table discussions, exhibitors 
 and speed networking. Â Please sign up to stay updated.\r\nCOST:Â FREE
  to attend\r\nBOOKING: Please CLICK HERE to Register your free Visitor
  ticket\r\n\n\nFor more information visit https://networkinginsurrey.c
 o.uk/events/chessington-business-expo
DTSTART;TZID=Europe/London:20201023T090000
DTEND;TZID=Europe/London:20201023T150000
CATEGORIES:business, networking, and, exhibition
LOCATION:Online
WEBSITE:https://www.accelevents.com/e/ChessingtonBusinessExpo
URL:https://www.accelevents.com/e/ChessingtonBusinessExpo
CONTACT:
ORGANIZER;CN="Amanda McLoughlin":https://networkinginsurrey.co.uk/prof
 ile/AmandaMellett667
ATTACH;FMTTYPE="image/jpeg":https://storage.ning.com/topology/rest/1.0
 /file/get/7888427289?profile=original
ATTENDEE;ROLE=REQ-PARTICIPANT;PARTSTAT=ACCEPTED;RSVP=TRUE;CN="Amanda M
 cLoughlin":https://networkinginsurrey.co.uk/profile/AmandaMellett667
END:VEVENT
END:VCALENDAR
