BEGIN:VCALENDAR
PRODID:NingEventWidget-v1
VERSION:2.0
METHOD:PUBLISH
BEGIN:VTIMEZONE
TZID:Europe/London
X-LIC-LOCATION:Europe/London
BEGIN:DAYLIGHT
TZOFFSETFROM:+0000
TZOFFSETTO:+0100
TZNAME:BST
DTSTART:19700329T010000
RRULE:FREQ=YEARLY;BYMONTH=3;BYDAY=-1SU
END:DAYLIGHT
BEGIN:STANDARD
TZOFFSETFROM:+0100
TZOFFSETTO:+0000
TZNAME:GMT
DTSTART:19701025T020000
RRULE:FREQ=YEARLY;BYMONTH=10;BYDAY=-1SU
END:STANDARD
END:VTIMEZONE
BEGIN:VEVENT
UID:4626108:Event:100605
DTSTAMP:20260421T191918Z
SUMMARY:FREE Chessington Business Expo 2018
DESCRIPTION:Chessington Business Expo 2018\r\nJoin us for the very fir
 st Chessington Business Expo.\r\nBuilding on the success of the Kingst
 on Business Expo held in the summer each year, we now want to celebrat
 e the success of the businesses in the south of the borough.\r\n\r\nAs
  the first Expo of its kind in the area, the event has already attract
 ed a lot of attention and is sure to generate interest from businesses
  of all sizes from across the borough and beyond into neighboring area
 s. The Expo will bring the local business community together as well a
 s deliver valuable business seminars and networking opportunities to t
 he South of the Borough’s Corporates, SME’s, start-ups and entrepr
 eneurs.\r\n50+ Exhibitors, networking breakfast, speed networking and 
 inspirational seminars. All free to attend.\r\nCOST: FREE to attend \
 r\nBOOKING: Please CLICK HERE to register for free entry \r\nMAP\r\
 nChessington School (formerly Chessington Community College)  is easi
 ly accessible by car and public transport and there will be plenty of 
 free parking available.\r\n\n\nFor more information visit https://net
 workinginsurrey.co.uk/events/chessington-business-expo-2018
DTSTART;TZID=Europe/London:20181031T093000
DTEND;TZID=Europe/London:20181031T160000
CATEGORIES:business, expo
LOCATION:Chessington School
WEBSITE:http://www.chessingtoncommunitycollege.co.uk/contact-us-2/
URL:http://www.chessingtoncommunitycollege.co.uk/contact-us-2/
CONTACT:0208 5414441
ORGANIZER;CN="Amanda McLoughlin":https://networkinginsurrey.co.uk/prof
 ile/AmandaMellett667
ATTACH;FMTTYPE="image/jpeg":http://storage.ning.com/topology/rest/1.0/
 file/get/2591474814?profile=original
ATTENDEE;ROLE=REQ-PARTICIPANT;PARTSTAT=ACCEPTED;RSVP=TRUE;CN="Lord Ham
 ilton of Glencoe":https://networkinginsurrey.co.uk/profile/BrianIanHam
 ilton
ATTENDEE;ROLE=REQ-PARTICIPANT;PARTSTAT=ACCEPTED;RSVP=TRUE;CN="Amanda M
 cLoughlin":https://networkinginsurrey.co.uk/profile/AmandaMellett667
ATTENDEE;ROLE=REQ-PARTICIPANT;PARTSTAT=ACCEPTED;RSVP=TRUE;CN="Derek Wi
 lliamson":https://networkinginsurrey.co.uk/profile/DerekWilliamson
END:VEVENT
END:VCALENDAR
