BEGIN:VCALENDAR
PRODID:NingEventWidget-v1
VERSION:2.0
METHOD:PUBLISH
BEGIN:VTIMEZONE
TZID:Europe/London
X-LIC-LOCATION:Europe/London
BEGIN:DAYLIGHT
TZOFFSETFROM:+0000
TZOFFSETTO:+0100
TZNAME:BST
DTSTART:19700329T010000
RRULE:FREQ=YEARLY;BYMONTH=3;BYDAY=-1SU
END:DAYLIGHT
BEGIN:STANDARD
TZOFFSETFROM:+0100
TZOFFSETTO:+0000
TZNAME:GMT
DTSTART:19701025T020000
RRULE:FREQ=YEARLY;BYMONTH=10;BYDAY=-1SU
END:STANDARD
END:VTIMEZONE
BEGIN:VEVENT
UID:4626108:Event:74849
DTSTAMP:20260426T033221Z
SUMMARY:Chertsey Chamber of Commerce Breakfast, Chertsey
DESCRIPTION:Chertsey Chamber of Commerce Breakfast Networking at Rive
 r Bourne Health Club\nPlease join us for a breakfast networking meetin
 g on 1st October. Members & non members are welcome.\nRoy Barber of No
 vex Solutions Ltd will give a brief informal presentation entitled \"H
 ow improving you office space can create a healthier, more productive 
 environment\".\nGeoff Chapman of I E Energy Solutions will also offer 
 advice on how to get the most competitive Gas & electric rates for you
 r company.\nCOST: £10.00 includes a breakfast of tea, coffee & pastri
 es.\nBOOKING:  Please confirm attendance with natalie@newballerino.co
 .uk\nMAP\n\nFor more information visit https://networkinginsurrey.co.u
 k/events/chertsey-chamber-of-commerce-breakfast-chertsey
DTSTART;TZID=Europe/London:20151001T073000
DTEND;TZID=Europe/London:20151001T090000
CATEGORIES:morning, chertsey, chamber, of, commerce, breakfast
LOCATION:River Bourne Health Club, Chertsey KT16 9DR
WEBSITE:
URL:
CONTACT:0750 713 8690
ORGANIZER:Chertsey Chamber of Commerce
ATTACH;FMTTYPE="image/jpeg":http://storage.ning.com/topology/rest/1.0/
 file/get/2591441754?profile=original
ATTENDEE;ROLE=REQ-PARTICIPANT;PARTSTAT=ACCEPTED;RSVP=TRUE;CN="Geoff Ch
 apman":https://networkinginsurrey.co.uk/profile/Geoffchapman
END:VEVENT
END:VCALENDAR
