BEGIN:VCALENDAR
PRODID:NingEventWidget-v1
VERSION:2.0
METHOD:PUBLISH
BEGIN:VTIMEZONE
TZID:Europe/London
X-LIC-LOCATION:Europe/London
BEGIN:DAYLIGHT
TZOFFSETFROM:+0000
TZOFFSETTO:+0100
TZNAME:BST
DTSTART:19700329T010000
RRULE:FREQ=YEARLY;BYMONTH=3;BYDAY=-1SU
END:DAYLIGHT
BEGIN:STANDARD
TZOFFSETFROM:+0100
TZOFFSETTO:+0000
TZNAME:GMT
DTSTART:19701025T020000
RRULE:FREQ=YEARLY;BYMONTH=10;BYDAY=-1SU
END:STANDARD
END:VTIMEZONE
BEGIN:VEVENT
UID:4626108:Event:530612
DTSTAMP:20260420T141341Z
SUMMARY:Charity Networking: Winter Pimms in the Forest Day, Camberley
DESCRIPTION:We're Back! 10th Anniversary Winter Pimm's Networking 2021
 \r\n\r\nThis unique event is hosted by projectfive, inviting local bus
 inesses to join together to help Surrey Wildlife Trust clear some of t
 he pine trees at Barossa, to allow the natural heathland-habitat to fl
 ourish.\r\nStart with tea and coffee, networking in the fresh air with
  other local businesses, enjoy a delicious al fresco lunch from Â Logi
 n Business Lounge, share some Winter Pimm's and mince pies and take yo
 ur own Christmas tree home - for free!\r\nCan you think of aÂ betterÂ 
 networking event this Christmas? You get to support a local charity; h
 elp maintain our local environment; network and team-build with other 
 friendly local businesses\r\n\"I was blown away by how big the event i
 s - I'd never seen so many smiling faces! Everybody was having a fanta
 stic time and there was some brilliant networking going on as well. Wh
 at more could you ask for?!\" Louise Punter, CEO, Surrey Chambers\r\n\
 r\n\"Without a doubt, this is one of my 'Top Ten' networking events of
  the year!\" Keith Grover, Networking in Surrey\r\nBarossa Common, in 
 Camberley, has many Scots Pines which are threatening the Heathland ha
 bitat. We invite you to join us in a team building/networking day to c
 lear an area of pine trees ranging from 2ft â€“ 8ft in size. Surrey Wi
 ldlife Trust Rangers and trained staff will be on hand to help. All pr
 oceeds will go to the Surrey Wildlife Trust, and additional donations 
 for extra trees are welcome...\r\n10:30Â â€“ Tea and Coffee, Informal 
 networking. 11:20Â â€“ WELCOME â€“ maintaining the heathland and the S
 afety Briefing. 11:30Â â€“ Pick and cut your own Christmas tree (with 
 the Surrey Wildlife Trust rangers). 12:45Â â€“ LUNCH BREAK (with delic
 ious food courtesy of Surrey Markets). 13:15Â â€“ Help clear as many t
 rees from the heathland as we can manage â€“ working in teams.* 14:30Â
  â€“ Winter Pimmâ€™s and Mince Pies. 15:00Â â€“ Depart (before it gets
  dark!)\r\nWhat to wear: Â Walking boots, warm clothes, waterproof clo
 thing (be prepared for the weather!)\r\nCOST: Â Â£40 per person, inclu
 ding lunch, Winter Pimms - and your own realÂ Christmas tree!\r\nBOOKI
 NG: PleaseÂ CLICK HEREÂ toÂ book your place and see more details\r\nMA
 P\r\nFull details for directions, parking and tree collection will be 
 provided after you book.*Please note that this event involves some str
 enuous activity,Â and smoke from burning trees. Participants take part
  at their own risk.\r\n \n\nFor more information visit https://network
 inginsurrey.co.uk/events/charity-networking-winter-pimms-in-the-forest
 -day-camberley-3
DTSTART;TZID=Europe/London:20211203T103000
DTEND;TZID=Europe/London:20211203T150000
CATEGORIES:charity, event
LOCATION:Barossa Common, Camberley (just 2 mins from the A30)
WEBSITE:https://www.eventbrite.co.uk/e/winter-pimms-networking-2019-ti
 ckets-76887716229
URL:https://www.eventbrite.co.uk/e/winter-pimms-networking-2019-ticket
 s-76887716229
CONTACT:01276 455466
ORGANIZER:Steve Coburn
ATTACH;FMTTYPE="image/jpeg":http://storage.ning.com/topology/rest/1.0/
 file/get/2591396027?profile=original
ATTENDEE;ROLE=REQ-PARTICIPANT;PARTSTAT=ACCEPTED;RSVP=TRUE;CN="Keith Gr
 over, NiS Founder":https://networkinginsurrey.co.uk/profile/KeithGrove
 r
END:VEVENT
END:VCALENDAR
