BEGIN:VCALENDAR
PRODID:NingEventWidget-v1
VERSION:2.0
METHOD:PUBLISH
BEGIN:VTIMEZONE
TZID:Europe/London
X-LIC-LOCATION:Europe/London
BEGIN:DAYLIGHT
TZOFFSETFROM:+0000
TZOFFSETTO:+0100
TZNAME:BST
DTSTART:19700329T010000
RRULE:FREQ=YEARLY;BYMONTH=3;BYDAY=-1SU
END:DAYLIGHT
BEGIN:STANDARD
TZOFFSETFROM:+0100
TZOFFSETTO:+0000
TZNAME:GMT
DTSTART:19701025T020000
RRULE:FREQ=YEARLY;BYMONTH=10;BYDAY=-1SU
END:STANDARD
END:VTIMEZONE
BEGIN:VEVENT
UID:4626108:Event:83966
DTSTAMP:20260423T124702Z
SUMMARY:Charity Networking: Winter Pimms in the Forest Day, Camberley
DESCRIPTION:\r\nCome and enjoy aÂ Christmas NetworkingÂ event with a d
 ifference, the projectfiveÂ way! Â ProjectfiveÂ and Surrey Wildlife Tr
 ust are teaming up again to bring you a unique Business Networking eve
 nt, which will help maintain the Heathland Habitat in Camberley by let
 ting you pick and cut your very own Christmas Tree!Â \r\nCan you think
  of aÂ betterÂ networking event this Christmas?Â  One where you get to
  support a local charity; help maintain our local environment; network
  and team-build with other friendly local businesses; enjoy lunch (Jer
 k Chicken, Butternut Squash Creole and Rice â€“ itâ€™s amazingly tasty
 !)Â fresh air and exercise, Winter Pimms and Mince Pies; and choose yo
 ur own Christmas Tree and take it home â€“ all included in the price!\
 r\n\"Without a doubt, this is one of my 'Top Ten' networking events of
  the year!\" Keith Grover, Networking in Surrey\r\n\r\nBarossa Common,
  in Camberley, has many Scots Pines which are threatening the Heathlan
 d habitat and we are inviting local businesses to join us in a team bu
 ilding/networking day to clear an area of pine trees ranging from 2ft 
 â€“ 8ft in size. The Surrey Wildlife Trust Rangers and trained staff w
 ill be on hand to help. All proceeds will go to the Surrey Wildlife Tr
 ust, and additional donations for extra trees are welcome...\r\n10:30Â
  â€“ Arrival with Tea and Coffee courtesy of Starbucks. Informal netwo
 rking with other businesses. 11:00Â â€“ Wood Sculpting with Man and Hi
 s Dog Carvings (inc. auction). 11:20Â â€“ WELCOME â€“ maintaining the 
 heathland and the Safety Briefing. 11:30Â â€“ Pick and cut your own Ch
 ristmas tree (with the Surrey Wildlife Trust rangers). 12:45Â â€“ LUNC
 H BREAK (with delicious food courtesy of Surrey Markets). 13:15Â â€“ H
 elp clear as many trees from the heathland as we can manage â€“ workin
 g in teams. 14:30Â â€“ Winter Pimmâ€™s and Mince Pies. 15:00Â â€“ Depa
 rt (before it gets dark!)\r\nWhat to wear: Â Walking boots, warm cloth
 es, waterproof clothing (be prepared for the weather!)\r\nCOST: Â Â£37
 .50 per person, including lunch, Winter Pimms - and your own realÂ Chr
 istmas tree!\r\nBOOKING: PleaseÂ CLICK HEREÂ toÂ book your place and s
 ee more details\r\nDIRECTIONS:Â Full details for directions, parking a
 nd tree collection will be provided after you book.*Please note that t
 his event involves some strenuous activity,Â and smoke from burning tr
 ees. Participants take part at their own risk.\r\nIf you have any prob
 lems getting to us on the day please call Steve (07899 061 754) or Hay
 ley (07766949497).\r\nMAP \n\nFor more information visit https://netwo
 rkinginsurrey.co.uk/events/charity-networking-winter-pimms-in-the-fore
 st-day-camberley-1
DTSTART;TZID=Europe/London:20171201T103000
DTEND;TZID=Europe/London:20171201T150000
CATEGORIES:charity, event
LOCATION:Barossa Common, Camberley (just 2 mins from the A30)
WEBSITE:https://www.eventbrite.co.uk/e/winter-pimms-networking-2016-ti
 ckets-28504454591
URL:https://www.eventbrite.co.uk/e/winter-pimms-networking-2016-ticket
 s-28504454591
CONTACT:01276 455466
ORGANIZER:Steve Coburn
ATTACH;FMTTYPE="image/jpeg":http://storage.ning.com/topology/rest/1.0/
 file/get/2591396027?profile=original
ATTENDEE;ROLE=REQ-PARTICIPANT;PARTSTAT=ACCEPTED;RSVP=TRUE;CN="Keith Gr
 over, NiS Founder":https://networkinginsurrey.co.uk/profile/KeithGrove
 r
END:VEVENT
END:VCALENDAR
