BEGIN:VCALENDAR
PRODID:NingEventWidget-v1
VERSION:2.0
METHOD:PUBLISH
BEGIN:VTIMEZONE
TZID:Europe/London
X-LIC-LOCATION:Europe/London
BEGIN:DAYLIGHT
TZOFFSETFROM:+0000
TZOFFSETTO:+0100
TZNAME:BST
DTSTART:19700329T010000
RRULE:FREQ=YEARLY;BYMONTH=3;BYDAY=-1SU
END:DAYLIGHT
BEGIN:STANDARD
TZOFFSETFROM:+0100
TZOFFSETTO:+0000
TZNAME:GMT
DTSTART:19701025T020000
RRULE:FREQ=YEARLY;BYMONTH=10;BYDAY=-1SU
END:STANDARD
END:VTIMEZONE
BEGIN:VEVENT
UID:4626108:Event:69885
DTSTAMP:20260426T040822Z
SUMMARY:Charity Networking: Winter Pimms in the Forest Day, Camberley
DESCRIPTION:\nCome and enjoy a Christmas Networking event with a dif
 ference, the projectfive way!  Projectfive and Surrey Wildlife Trus
 t are teaming up again to bring you a unique Business Networking event
 , which will help maintain the Heathland Habitat in Camberley by letti
 ng you pick and cut your very own Christmas Tree! \nCan you think of 
 a better networking event this Christmas?  One where you get to sup
 port a local charity; help maintain our local environment; network and
  team-build with other friendly local businesses; enjoy lunch (Jerk Ch
 icken, Butternut Squash Creole and Rice – it’s amazingly tasty!) 
 fresh air and exercise, Winter Pimms and Mince Pies; and choose your o
 wn Christmas Tree and take it home – all included in the price!\n\"W
 ithout a doubt, this is one of my 'Top Ten' networking events of the y
 ear!\" Keith Grover, Networking in Surrey\nBarossa Common, in Camberle
 y, has many Scots Pines which are threatening the Heathland habitat an
 d we are inviting local businesses to join us in a team building/netwo
 rking day to clear an area of pine trees ranging from 2ft – 8ft in s
 ize. The Surrey Wildlife Trust Rangers and trained staff will be on ha
 nd to help. All proceeds will go to the Surrey Wildlife Trust, and add
 itional donations for extra trees are welcome...\nWHERE:   Barossa Co
 mmon, Camberley (just 2 mins from the A30)\nWHEN:    Friday 4th Dec
 ember  2015 11:00am – 3:00pm\nWhat to wear:  Walking boots, warm c
 lothes, waterproof clothing (be prepared for the weather!)\nCOST:  £
 35 per person, including lunch, Winter Pimms - and your own real Chri
 stmas tree!\nBOOKING: Please CLICK HERE to book your place\nDIRECTI
 ONS: Full details for directions, parking and tree collection will be
  provided after you book.*Please note that this event involves some st
 renuous activity, and smoke from burning trees. Participants take par
 t at their own risk, and we recommend that all participants are fit an
 d healthy.\n\nFor more information visit https://networkinginsurrey.co
 .uk/events/charity-networking-winter-pimms-in-the-forest-2013-camberle
 y
DTSTART;TZID=Europe/London:20151204T110000
DTEND;TZID=Europe/London:20151204T150000
CATEGORIES:charity, event
LOCATION:Barossa Common, Camberley (just 2 mins from the A30)
WEBSITE:http://www.eventbrite.co.uk/e/winter-pimms-in-the-forest-ticke
 ts-13524238361?aff=eorg
URL:http://www.eventbrite.co.uk/e/winter-pimms-in-the-forest-tickets-1
 3524238361?aff=eorg
CONTACT:01276455455
ORGANIZER:Steve Coburn
ATTACH;FMTTYPE="image/jpeg":http://storage.ning.com/topology/rest/1.0/
 file/get/2591396027?profile=original
ATTENDEE;ROLE=REQ-PARTICIPANT;PARTSTAT=ACCEPTED;RSVP=TRUE;CN="Keith Gr
 over, NiS Founder":https://networkinginsurrey.co.uk/profile/KeithGrove
 r
END:VEVENT
END:VCALENDAR
