BEGIN:VCALENDAR
PRODID:NingEventWidget-v1
VERSION:2.0
METHOD:PUBLISH
BEGIN:VTIMEZONE
TZID:Europe/London
X-LIC-LOCATION:Europe/London
BEGIN:DAYLIGHT
TZOFFSETFROM:+0000
TZOFFSETTO:+0100
TZNAME:BST
DTSTART:19700329T010000
RRULE:FREQ=YEARLY;BYMONTH=3;BYDAY=-1SU
END:DAYLIGHT
BEGIN:STANDARD
TZOFFSETFROM:+0100
TZOFFSETTO:+0000
TZNAME:GMT
DTSTART:19701025T020000
RRULE:FREQ=YEARLY;BYMONTH=10;BYDAY=-1SU
END:STANDARD
END:VTIMEZONE
BEGIN:VEVENT
UID:4626108:Event:10252
DTSTAMP:20260423T011612Z
SUMMARY:Charity Health & Fitness Networking
DESCRIPTION:Health, Fitness & Wellness Evening at Silvermere\n\nCallin
 g all health, fitness, wellness and sporting professionals!\nWould you
  like to meet like-minded individuals who all share a similar passion 
 in life, be part of a buzzng networking event in Surrey for your busin
 ess sector, and support an amazing local charity?\nFollowing the succe
 ss of our first event in January we are holding another fantastic even
 ing of Networking, some speed networking, and a fabulous guest speaker
  Alex Phillips' from Inside Edge Performance Coaching.\nAs the skipper
  of the yacht Quadstone in the 2000 BT Global Challenge, known as “T
 he World’s Toughest Yacht Race”, Alex developed a group of amateur
 s into a high-performing team and led them to victory against the odds
 . The knowledge gained through working with amateur teams, throughout 
 her seventeen years at sea, has been readily transferred into the spor
 ts performance coaching world and she now helps individuals and teams 
 achieve their sporting goals.\n \nYou can also find out from Yvonne &
  Steph about a new Social Entrepreneur programme that aims to feed 1 
 million children round the world. \n \n  \n\nGive for Real Update 
 • Vamos México from Giving Changes Everything on Vimeo.\nFind out h
 ow you can join in too.\n \nOrganisers:\nSteph Sullivan: Optimal Heal
 th Solutions\nYvonne Stone: Acorn to Oak Health\nSarah Martin: Ladies 
 at 11\nCOST: £10\nExhibitors - 8 stands are available to promote your
  business / product just £20 includes entrance fee - please contact s
 arah@ladiesat11.com\nCLICK HERE TO BOOK\nPlease arrive at 7pm for regi
 stration and networking\nMAP\n\nFor more information visit https://net
 workinginsurrey.co.uk/events/charity-health-fitness
DTSTART;TZID=Europe/London:20110414T190000
DTEND;TZID=Europe/London:20110414T213000
CATEGORIES:health, "&", fitness, networking, kt11, 1ef
LOCATION:Inn on the Lake at Silvermere
WEBSITE:http://healthandfitnessnetworking.eventbrite.com/
URL:http://healthandfitnessnetworking.eventbrite.com/
CONTACT:07942 816937
ORGANIZER;CN="Yvonne Stone":https://networkinginsurrey.co.uk/profile/Y
 vonneStone
ATTACH;FMTTYPE="image/jpeg":http://storage.ning.com/topology/rest/1.0/
 file/get/2591389320?profile=original
ATTENDEE;ROLE=REQ-PARTICIPANT;PARTSTAT=ACCEPTED;RSVP=TRUE;CN="Paula Ke
 mp":https://networkinginsurrey.co.uk/profile/HolisticTherapieswithPaul
 aKemp
ATTENDEE;ROLE=REQ-PARTICIPANT;PARTSTAT=ACCEPTED;RSVP=TRUE;CN="Yvonne S
 tone":https://networkinginsurrey.co.uk/profile/YvonneStone
ATTENDEE;ROLE=REQ-PARTICIPANT;PARTSTAT=ACCEPTED;RSVP=TRUE;CN="Steph Su
 llivan":https://networkinginsurrey.co.uk/profile/StephSullivan
ATTENDEE;ROLE=REQ-PARTICIPANT;PARTSTAT=ACCEPTED;RSVP=TRUE;CN="Sarah Ma
 rtin":https://networkinginsurrey.co.uk/profile/SarahMartin
END:VEVENT
END:VCALENDAR
