BEGIN:VCALENDAR
PRODID:NingEventWidget-v1
VERSION:2.0
METHOD:PUBLISH
BEGIN:VTIMEZONE
TZID:Europe/London
X-LIC-LOCATION:Europe/London
BEGIN:DAYLIGHT
TZOFFSETFROM:+0000
TZOFFSETTO:+0100
TZNAME:BST
DTSTART:19700329T010000
RRULE:FREQ=YEARLY;BYMONTH=3;BYDAY=-1SU
END:DAYLIGHT
BEGIN:STANDARD
TZOFFSETFROM:+0100
TZOFFSETTO:+0000
TZNAME:GMT
DTSTART:19701025T020000
RRULE:FREQ=YEARLY;BYMONTH=10;BYDAY=-1SU
END:STANDARD
END:VTIMEZONE
BEGIN:VEVENT
UID:4626108:Event:82823
DTSTAMP:20260425T011542Z
SUMMARY:FREE Charities Breakfast Seminar,Ripley
DESCRIPTION:CALLING ALL CHARITIES!\n\nThe Partners at Wilkins Kennedy 
 LLP, Chartered Accountants and Business Advisers are delighted to invi
 te you to join them for the next regular charity seminar onÂ Tuesday 2
 7thÂ September 2016.\nThe topics for this seminar will includeÂ releva
 nt employment tax issues affecting charities, from Wilkins Kennedy's E
 mployment Tax DirectorÂ Dave Hedges,Â trusteesâ€™ insurance and risk,Â
  bought to you byÂ Advantage Risk SolutionsÂ and aÂ Gift Aid updateÂ b
 y Guildford Partner,Â Ken Young. Â The event will also offer the oppor
 tunity to network with other business people involved in the Charity S
 ector as well as other charities.\nWilkins Kennedy has been working wi
 th charities for more than 50 years. We currently act for over 400 cha
 rities and our group of professional experts are able to provide advic
 e on best practice and practical solutions to help you achieve your go
 als.\nFIND OUT MORE HERE\nCOST: FREE - but booking in essential please
 \nBOOKING: Please email Sarah to secure your free place: Â sarah.edwar
 ds@wilkinskennedy.com\nMAP\nThere is ample parking in the Talbot's own
  car park\n\nFor more information visit https://networkinginsurrey.co.
 uk/events/charities-seminar-woking
DTSTART;TZID=Europe/London:20160927T074500
DTEND;TZID=Europe/London:20160927T093000
CATEGORIES:charity, specific, seminar
LOCATION:The Talbot Hotel
WEBSITE:http://www.bespokehotels.com/talbotinn/pages/location
URL:http://www.bespokehotels.com/talbotinn/pages/location
CONTACT:01784 435561
ORGANIZER;CN="Sarah L Edwards":https://networkinginsurrey.co.uk/profil
 e/SarahLEdwards
ATTACH;FMTTYPE="image/jpeg":http://storage.ning.com/topology/rest/1.0/
 file/get/2591428798?profile=original
ATTENDEE;ROLE=REQ-PARTICIPANT;PARTSTAT=ACCEPTED;RSVP=TRUE;CN="Sarah L 
 Edwards":https://networkinginsurrey.co.uk/profile/SarahLEdwards
END:VEVENT
END:VCALENDAR
