BEGIN:VCALENDAR
PRODID:NingEventWidget-v1
VERSION:2.0
METHOD:PUBLISH
BEGIN:VTIMEZONE
TZID:Europe/London
X-LIC-LOCATION:Europe/London
BEGIN:DAYLIGHT
TZOFFSETFROM:+0000
TZOFFSETTO:+0100
TZNAME:BST
DTSTART:19700329T010000
RRULE:FREQ=YEARLY;BYMONTH=3;BYDAY=-1SU
END:DAYLIGHT
BEGIN:STANDARD
TZOFFSETFROM:+0100
TZOFFSETTO:+0000
TZNAME:GMT
DTSTART:19701025T020000
RRULE:FREQ=YEARLY;BYMONTH=10;BYDAY=-1SU
END:STANDARD
END:VTIMEZONE
BEGIN:VEVENT
UID:4626108:Event:96380
DTSTAMP:20260422T162250Z
SUMMARY:Chamber Power Breakfast, Farnham
DESCRIPTION:Surrey Chambers Business Breakfast -Tackling Mental Health
  in the Workplace\r\nJoin us for one of our informal power breakfasts 
 at Waverley Abbey House with speaker Tom Wavre from The Working Mind, 
 who will take us through how to tackle mental health in the workplace,
  and how this could boost productivity and profitability for your busi
 ness.   Speaker  Tom Wavre, The Working Mind  Tom Wavre is the founde
 r and owner of both Iam1in4, a global anti-stigma mental health campai
 gn and The Working Mind who provide mental health in the workplace sol
 utions. He is an engaging and inspiring mental health public speaker w
 ho has spoken at conferences across Europe with great success. His bac
 kground is within the construction sector having worked at a senior ma
 nagement level with global names such as Würth, Rawlplug and most rec
 ently Fortune 200 company ITW.\r\n The Working Mind is dedicated to ta
 ckling the stigma that surrounds mental health. We do this by creating
  working environments that ensure both positive employee well-being an
 d excellent company performance.   About the venue Steeped in history
 , Waverley Abbey House is a charming Grade II* listed Georgian mansion
  located near Farnham, in the midst of the tranquil scenery of Surrey.
  With its historic character, extensive grounds and excellent faciliti
 es, Waverley Abbey House is an ideal venue for meetings, celebratory m
 eals, bespoke events and marquee functions.\r\nSurrey Chambers of Comm
 erce is offering this range of pure networking events with fellow mem
 bers, non-members and Chamber staff. These events are designed for you
  to make contacts and promote your business and are delivered in venue
 s across Surrey.  Timing: 07:45am - Arrival with teas and coffees 08:0
 0am - Speaker - Tom Wavre & Q&A 08:30am - Breakfast and discussion 09:
 00am - Further networking 09:30am - Close\r\nCOST: Member Rate: £24 
 | Non Member Rate: £36 meeting fee including breakfast\r\nBOOKING: Pl
 ease  CLICK HERE to book \r\nMAP\r\nAmple free parking\n\nFor more 
 information visit https://networkinginsurrey.co.uk/events/chamber-powe
 r-breakfast-tackling-mental-health-in-the-workplace
DTSTART;TZID=Europe/London:20180328T193000
DTEND;TZID=Europe/London:20180328T213000
CATEGORIES:networking, breakfast, waverley, surrey_chambers
LOCATION:Waverley Abbey House GU9 8EP
WEBSITE:https://www.surrey-chambers.co.uk/event-listing/event-detail/?
 eidQS=20CDC573-169E-4F93-AF25-F002A7D0D6F1
URL:https://www.surrey-chambers.co.uk/event-listing/event-detail/?eidQ
 S=20CDC573-169E-4F93-AF25-F002A7D0D6F1
CONTACT:01483 735540
ORGANIZER;CN="Ivan Spooner":https://networkinginsurrey.co.uk/profile/I
 vanSpooner
ATTACH;FMTTYPE="image/jpeg":http://storage.ning.com/topology/rest/1.0/
 file/get/2591389968?profile=original
ATTENDEE;ROLE=REQ-PARTICIPANT;PARTSTAT=ACCEPTED;RSVP=TRUE;CN="Ivan Spo
 oner":https://networkinginsurrey.co.uk/profile/IvanSpooner
END:VEVENT
END:VCALENDAR
