BEGIN:VCALENDAR
PRODID:NingEventWidget-v1
VERSION:2.0
METHOD:PUBLISH
BEGIN:VTIMEZONE
TZID:Europe/London
X-LIC-LOCATION:Europe/London
BEGIN:DAYLIGHT
TZOFFSETFROM:+0000
TZOFFSETTO:+0100
TZNAME:BST
DTSTART:19700329T010000
RRULE:FREQ=YEARLY;BYMONTH=3;BYDAY=-1SU
END:DAYLIGHT
BEGIN:STANDARD
TZOFFSETFROM:+0100
TZOFFSETTO:+0000
TZNAME:GMT
DTSTART:19701025T020000
RRULE:FREQ=YEARLY;BYMONTH=10;BYDAY=-1SU
END:STANDARD
END:VTIMEZONE
BEGIN:VEVENT
UID:4626108:Event:97464
DTSTAMP:20260422T132552Z
SUMMARY:Chamber Power Breakfast, Brooklands
DESCRIPTION:Surrey Chambers Business Breakfast - Standing Out in a Cr
 owded Market\r\n \r\nJoin us at these regular informal breakfasts bein
 g held at the Brooklands Hotel, Weybridge with speaker Jarmila Yu from
  YUnique Marketing who will be speaking about the importance of market
 ing strategy, and how just a few changes to your marketing can make a 
 big difference to your business.    Speaker \r\n\r\nJarmila Yu, YUni
 que Marketing\r\nJarmila is a marketing professional and the Founder o
 f YUnique Marketing, a boutique consultancy providing On-Demand Chief 
 Marketing Officer Services. Identifying a gap in the market for board-
 level marketing strategy leadership in SMEs, she uses her immense expe
 rience to unlock the marketing potential in ambitious start-up and sca
 le-up businesses. She is sought after for her expertise in Brand Manag
 ement, Go-to-Market Strategy and Integrated Marketing Campaigns.\r\n A
 bout the venue\r\nNestled in the heart of Brooklands Estate, home to t
 he historic Brooklands motor racing track, lies Brooklands Hotel - a m
 odern boutique hotel that effortlessly combines contemporary style wit
 h classic elegance. Our stylish event spaces and award-winning 1907 re
 staurant, bar & grill pay homage to the 1920s and 30s - the golden age
  of racing - while our modern, luxurious rooms and suites feature all 
 the mod cons you can imagine.\r\nThese events are designed to give you
  a regular opportunity to meet and discuss local issues, share best pr
 actice with decision makers and widen your own network of customers an
 d suppliers.\r\nIt is a great opportunity to start the day on a produc
 tive note by being able to walk away with some new contacts. This cont
 inues our series of Power breakfasts which provides fantastic networki
 ng opportunities for a wide range of businesses across Surrey, all ove
 r a delicious, freshly cooked breakfast.  Timing: 07:45am - Arrival wi
 th teas and coffees 08:00am - Speaker & Q&A - Jarmila Yu 08:30am - B
 reakfast and discussion 09:00am - Further networking 09:30am - Close\r
 \nCOST: Member Rate: £24 | Non Member Rate: £36 meeting fee includi
 ng breakfast\r\nBOOKING: Please CLICK HERE to book \r\nMAP\r\nAmple 
 free parking is available on-site.\n\nFor more information visit https
 ://networkinginsurrey.co.uk/events/chamber-power-breakfast-brooklands
DTSTART;TZID=Europe/London:20180502T074500
DTEND;TZID=Europe/London:20180502T093000
CATEGORIES:networking, breakfast, elmbridge, brooklands, weybridge, su
 rrey_chambers
LOCATION:Brooklands Hotel KT13 0SL
WEBSITE:https://www.surrey-chambers.co.uk/event-listing/event-detail/?
 eidQS=5C1F1EAF-2788-4A7E-96F0-A036AA0D14B3
URL:https://www.surrey-chambers.co.uk/event-listing/event-detail/?eidQ
 S=5C1F1EAF-2788-4A7E-96F0-A036AA0D14B3
CONTACT:01483 735540
ORGANIZER;CN="Ivan Spooner":https://networkinginsurrey.co.uk/profile/I
 vanSpooner
ATTACH;FMTTYPE="image/jpeg":http://storage.ning.com/topology/rest/1.0/
 file/get/2591471785?profile=original
ATTENDEE;ROLE=REQ-PARTICIPANT;PARTSTAT=ACCEPTED;RSVP=TRUE;CN="Ivan Spo
 oner":https://networkinginsurrey.co.uk/profile/IvanSpooner
END:VEVENT
END:VCALENDAR
