BEGIN:VCALENDAR
PRODID:NingEventWidget-v1
VERSION:2.0
METHOD:PUBLISH
BEGIN:VTIMEZONE
TZID:Europe/London
X-LIC-LOCATION:Europe/London
BEGIN:DAYLIGHT
TZOFFSETFROM:+0000
TZOFFSETTO:+0100
TZNAME:BST
DTSTART:19700329T010000
RRULE:FREQ=YEARLY;BYMONTH=3;BYDAY=-1SU
END:DAYLIGHT
BEGIN:STANDARD
TZOFFSETFROM:+0100
TZOFFSETTO:+0000
TZNAME:GMT
DTSTART:19701025T020000
RRULE:FREQ=YEARLY;BYMONTH=10;BYDAY=-1SU
END:STANDARD
END:VTIMEZONE
BEGIN:VEVENT
UID:4626108:Event:94512
DTSTAMP:20260423T005522Z
SUMMARY:Surrey Chambers Power Breakfast at Sandown Park Racecourse
DESCRIPTION:Surrey Chambers Power Breakfast at Sandown Park Racecourse
  \r\nCome and  join us for the first 'Power Breakfast' of the year at
  Sandown Park Racecourse with guest speaker Tony Lynch from Keep Think
 ing Big.  Who is Tony?\r\n\r\nTony Lynch from Keep Thinking Big is an 
 International Business Development Trainer and Coach with more than 30
  years’ experience helping Entrepreneurs, Managers, Leaders and Sale
 s Professionals create a competitive advantage in today’s crowded ma
 rketplace.\r\nTony has spoken in multiple countries, is a TEDx speaker
 , as well as being featured by INC in ‘100 Great Leadership Speakers
  for Your Next Conference’.\r\nAs a competent motivational trainer h
 e helps his clients to have a winning strategy to enjoy greater influe
 nce, impact and income.\r\n\r\nThese events are designed to give you a
  regular opportunity to meet and discuss local issues, share best prac
 tice with decision makers and widen your own network of customers and 
 suppliers.  It is a great opportunity to start the day on a productive
  note by being able to walk away with some new contacts. This continue
 s our series of Power breakfasts which provides fantastic networking o
 pportunities for a wide range of businesses across Surrey, all over a 
 delicious, freshly cooked breakfast.  Timing: 07:45am - Arrival with t
 eas and coffees 08:00am - Speaker 08:30am - Breakfast and discussion 0
 9:00am - Further networking 09:30am - Close  Andrew Dennis – Power B
 reakfast at Sandown Park Racecourse “Fantastic Venue and Breakfast. 
 There was a good group of people, all with ‘can do’ attitudes as w
 ell as an engaging speaker. I obtained a number of new contacts and re
 ceived further networking opportunities. I also felt that I had come f
 rom the breakfast having learnt something new which is a big bonus!”
  \r\nCOST: Member Rate: £24 | Non Member Rate: £36 meeting fee incl
 uding breakfast\r\n\r\nBOOKING: Please  CLICK HERE to book  \r\nMA
 P\r\n\r\n\r\nSandown Park is 5 minutes walk from Esher station (which 
 is 20 mins from Waterloo). There is ample free parking.\r\n\n\nFor mor
 e information visit https://networkinginsurrey.co.uk/events/chamber-co
 nnections-sandown-park-racecourse
DTSTART;TZID=Europe/London:20180125T074500
DTEND;TZID=Europe/London:20180125T213000
CATEGORIES:networking, breakfast, esher, surrey_chambers
LOCATION:Sandown Park Racecourse KT10 9AJ
WEBSITE:https://www.surrey-chambers.co.uk/event-listing/event-detail/?
 eidQS=7A0A5BE9-6767-4070-91BC-EFEC233B8F90
URL:https://www.surrey-chambers.co.uk/event-listing/event-detail/?eidQ
 S=7A0A5BE9-6767-4070-91BC-EFEC233B8F90
CONTACT:01483 735540
ORGANIZER;CN="Ivan Spooner":https://networkinginsurrey.co.uk/profile/I
 vanSpooner
ATTACH;FMTTYPE="image/jpeg":http://storage.ning.com/topology/rest/1.0/
 file/get/2591467102?profile=original
ATTENDEE;ROLE=REQ-PARTICIPANT;PARTSTAT=ACCEPTED;RSVP=TRUE;CN="Ivan Spo
 oner":https://networkinginsurrey.co.uk/profile/IvanSpooner
END:VEVENT
END:VCALENDAR
