BEGIN:VCALENDAR
PRODID:NingEventWidget-v1
VERSION:2.0
METHOD:PUBLISH
BEGIN:VTIMEZONE
TZID:Europe/London
X-LIC-LOCATION:Europe/London
BEGIN:DAYLIGHT
TZOFFSETFROM:+0000
TZOFFSETTO:+0100
TZNAME:BST
DTSTART:19700329T010000
RRULE:FREQ=YEARLY;BYMONTH=3;BYDAY=-1SU
END:DAYLIGHT
BEGIN:STANDARD
TZOFFSETFROM:+0100
TZOFFSETTO:+0000
TZNAME:GMT
DTSTART:19701025T020000
RRULE:FREQ=YEARLY;BYMONTH=10;BYDAY=-1SU
END:STANDARD
END:VTIMEZONE
BEGIN:VEVENT
UID:4626108:Event:94705
DTSTAMP:20260423T053249Z
SUMMARY:Surrey Chambers Power Breakfast, Reigate
DESCRIPTION:Surrey Chambers Power Breakfast - Developing a Growth Min
 dset at the Reigate Manor Hotel \r\nCome and join us at one of our r
 egular breakfasts being held at Reigate Manor Hotel.  This breakfast l
 ooks at how to support to individuals and teams to help maximise their
  full potential through a strengths based approach.  Speaker  Nick All
 sopp, Director, Crescat Ltd  With over 30 years’ experience, Nick ha
 s worked in a wide range of sectors focusing on individual and team de
 velopment, and has helped companies and individuals achieve ambitious 
 targets through the design and delivery of a range of initiatives incl
 uding talent management strategies, cultural change, internal coaching
  and mentoring programmes, management and leadership skills programmes
 , teambuilding and project work with a number of the UK’s leading bu
 siness schools.  Crescat supports individuals and teams to help maximi
 se their full potential through a strengths based approach.   Timing:
  07:45am - Arrival with teas and coffees 08:00am - Speaker 08:30am - B
 reakfast and discussion 09:00am - Further networking 09:30am - Close  
 Andrew Dennis – Power Breakfast at Sandown Park Racecourse “Fantas
 tic Venue and Breakfast. There was a good group of people, all with 
 can do’ attitudes as well as an engaging speaker. I obtained a numb
 er of new contacts and received further networking opportunities. I al
 so felt that I had come from the breakfast having learnt something new
  which is a big bonus!”\r\nCOST: Member Rate: £24 | Non Member Rat
 e: £36 meeting fee including breakfast\r\n\r\nBOOKING: Please  CLICK
  HERE to book \r\n\r\n\r\nMAP\r\nDIRECTIONS\r\n\n\nFor more informat
 ion visit https://networkinginsurrey.co.uk/events/chamber-connections-
 reigate-manor-hotel
DTSTART;TZID=Europe/London:20180206T074500
DTEND;TZID=Europe/London:20180206T093000
CATEGORIES:networking, breakfast, reigate, surrey_chambers
LOCATION:Reigate Manor Hotel RH2 9PF
WEBSITE:https://www.surrey-chambers.co.uk/event-listing/event-detail/?
 eidQS=EF0A4EB5-651B-433E-88DA-BED7B82AD90A
URL:https://www.surrey-chambers.co.uk/event-listing/event-detail/?eidQ
 S=EF0A4EB5-651B-433E-88DA-BED7B82AD90A
CONTACT:01483 735540
ORGANIZER;CN="Ivan Spooner":https://networkinginsurrey.co.uk/profile/I
 vanSpooner
ATTACH;FMTTYPE="image/jpeg":http://storage.ning.com/topology/rest/1.0/
 file/get/2591467102?profile=original
ATTENDEE;ROLE=REQ-PARTICIPANT;PARTSTAT=ACCEPTED;RSVP=TRUE;CN="Ivan Spo
 oner":https://networkinginsurrey.co.uk/profile/IvanSpooner
END:VEVENT
END:VCALENDAR
