BEGIN:VCALENDAR
PRODID:NingEventWidget-v1
VERSION:2.0
METHOD:PUBLISH
BEGIN:VTIMEZONE
TZID:Europe/London
X-LIC-LOCATION:Europe/London
BEGIN:DAYLIGHT
TZOFFSETFROM:+0000
TZOFFSETTO:+0100
TZNAME:BST
DTSTART:19700329T010000
RRULE:FREQ=YEARLY;BYMONTH=3;BYDAY=-1SU
END:DAYLIGHT
BEGIN:STANDARD
TZOFFSETFROM:+0100
TZOFFSETTO:+0000
TZNAME:GMT
DTSTART:19701025T020000
RRULE:FREQ=YEARLY;BYMONTH=10;BYDAY=-1SU
END:STANDARD
END:VTIMEZONE
BEGIN:VEVENT
UID:4626108:Event:103869
DTSTAMP:20260424T035058Z
SUMMARY:CEO Forum Dinner, Guildford
DESCRIPTION:CEO Forum Dinner, Guildford\r\n\r\nThe CEO Forum was set u
 p for business leaders to discuss issues with trusted colleagues, and 
 to build strong business relationships with a peer group.Â Â \r\nOnly 
 one member of each sector or profession can join each CEO Forum. The i
 ntention is that members attend most monthly Board meetings. Confident
 iality of conversations is maintained under the Chatham House rule.\r\
 nCEO Forum meetings are held over an early dinner - the bill is equall
 y split amongst Board members. Visitors can try out The CEO Forum at a
  special rate of Â£50+VAT plus an equal share of the dinner bill.\r\nC
 OST:Â Â£50+VAT plus dinner costs\r\nBOOKING: Please CLICK HEREÂ forÂ Â
  more informationÂ or email philip@pealpartnership.co.uk.\r\nMAP\n\nFo
 r more information visit https://networkinginsurrey.co.uk/events/ceo-f
 orum-dinner-in-guildford-1
DTSTART;TZID=Europe/London:20190304T180000
DTEND;TZID=Europe/London:20190304T200000
CATEGORIES:board, networking
LOCATION:The Ivy
WEBSITE:
URL:
CONTACT:07770 900734
ORGANIZER;CN="Philip MendonÃ§a":https://networkinginsurrey.co.uk/profi
 le/PhilipMendonca
ATTACH;FMTTYPE="image/jpeg":http://storage.ning.com/topology/rest/1.0/
 file/get/923063544?profile=original
ATTENDEE;ROLE=REQ-PARTICIPANT;PARTSTAT=ACCEPTED;RSVP=TRUE;CN="Philip M
 endonÃ§a":https://networkinginsurrey.co.uk/profile/PhilipMendonca
END:VEVENT
END:VCALENDAR
