BEGIN:VCALENDAR
PRODID:NingEventWidget-v1
VERSION:2.0
METHOD:PUBLISH
BEGIN:VTIMEZONE
TZID:Europe/London
X-LIC-LOCATION:Europe/London
BEGIN:DAYLIGHT
TZOFFSETFROM:+0000
TZOFFSETTO:+0100
TZNAME:BST
DTSTART:19700329T010000
RRULE:FREQ=YEARLY;BYMONTH=3;BYDAY=-1SU
END:DAYLIGHT
BEGIN:STANDARD
TZOFFSETFROM:+0100
TZOFFSETTO:+0000
TZNAME:GMT
DTSTART:19701025T020000
RRULE:FREQ=YEARLY;BYMONTH=10;BYDAY=-1SU
END:STANDARD
END:VTIMEZONE
BEGIN:VEVENT
UID:4626108:Event:97685
DTSTAMP:20260423T070353Z
SUMMARY:Caterham \"FORE\" Business Breakfast, Chaldon
DESCRIPTION:Caterham \"FORE\" Business - Surrey National Golf Club\r\n
 \r\nDrive... on 9th May...Triple Supercar Drive ...courtesy of Design 
 JD Imagine being given the keys to three supercars. Well, join us at t
 he “FORE” Business Caterham meeting (at Surrey National) FORE May 
 (9th) and win!!  The mouth-watering choice of supercars are as follows
 : Ferrari 360/355/430, Lamborghini Gallardo, Aston Martin DB9 or V8 Va
 ntage, Porsche 996/997/911, Audi R8 and Nissan GT-R.  PLUS share this 
 post to win a bluetooth speaker!!! Come and join us for a morning of n
 etworking to meet our Members followed by a round of golf!\r\nWe meet 
 every month to make new connections and referrals to grow our business
 es together.\r\nWe are delighted to welcome you to our Caterham Group 
 which is hosted at the Surrey National Golf Club, Surrey.\r\nThe busin
 ess networking event in Caterham has been established since June 2014 
 and business and friendship within the group is flourishing. If you wo
 uld like to attend a “FORE” Business golf event at our Caterham gr
 oup, please visit the web site.\r\nWe have members eagerly waiting to 
 pass referrals and at the same time enjoy an amazing round of golf at 
 Surrey National Golf Club. We currently have 18 members and are lookin
 g to grow this to over 40.\r\nCOST: FREE for all visitors\r\nBOOKING: 
 PLease CLICK HERE to book your place\r\nMAP Plenty of parking availab
 le, on arrival meet us in the spike bar next to the Golf Shop, where y
 ou will be asked to sign in.\r\n\n\nFor more information visit https:/
 /networkinginsurrey.co.uk/events/caterham-fore-business-breakfast-chal
 don-22
DTSTART;TZID=Europe/London:20180509T070000
DTEND;TZID=Europe/London:20180509T150000
CATEGORIES:free, car, experience, coffee, networking, breakfast, golf,
  prizes, caterham
LOCATION:Surrey National Golf Club CR3 5AA
WEBSITE:http://www.fore-business.com/our-golf-groups/surrey/caterham-g
 roup
URL:http://www.fore-business.com/our-golf-groups/surrey/caterham-group
CONTACT:07967 555937
ORGANIZER:Michael de Lemos \"FORE\" Business Ambassador Caterham
ATTACH;FMTTYPE="image/jpeg":http://storage.ning.com/topology/rest/1.0/
 file/get/2470855328?profile=original
ATTENDEE;ROLE=REQ-PARTICIPANT;PARTSTAT=ACCEPTED;RSVP=TRUE;CN="Michael 
 de Lemos":https://networkinginsurrey.co.uk/profile/MichaeldeLemos
END:VEVENT
END:VCALENDAR
