BEGIN:VCALENDAR
PRODID:NingEventWidget-v1
VERSION:2.0
METHOD:PUBLISH
BEGIN:VTIMEZONE
TZID:Europe/London
X-LIC-LOCATION:Europe/London
BEGIN:DAYLIGHT
TZOFFSETFROM:+0000
TZOFFSETTO:+0100
TZNAME:BST
DTSTART:19700329T010000
RRULE:FREQ=YEARLY;BYMONTH=3;BYDAY=-1SU
END:DAYLIGHT
BEGIN:STANDARD
TZOFFSETFROM:+0100
TZOFFSETTO:+0000
TZNAME:GMT
DTSTART:19701025T020000
RRULE:FREQ=YEARLY;BYMONTH=10;BYDAY=-1SU
END:STANDARD
END:VTIMEZONE
BEGIN:VEVENT
UID:4626108:Event:275307
DTSTAMP:20260422T101851Z
SUMMARY:Capuccino Connections Special Morning, Fleet
DESCRIPTION:Cappuccino Connections Special Event.\r\n\r\nWe look forwa
 rd to welcoming you \r\nCappuccino Connections Special Event - Create
  your 2020 Vision Board ⭐⭐⭐\r\nI am really excited to let you kn
 ow we have a special event to kick off 2020. Rachel Power has kindly a
 greed to lead a Vision Boarding session at our Cappuccino Connections 
 event which will take place 9.45-11.45 am on 10th January at Stockton 
 House.\r\nVision boards are incredibly useful and inspirational to hel
 p you focus on what you want to achieve in all different areas of life
  and business. I do one every year as a way to set intention for the y
 ear ahead. Its a great way to bring to life the goals we'd like to ach
 ieve.\r\n\r\nIf anyone has any spare magazines it would be great if yo
 u could bring them along as we will need some resources to gather pict
 ures for our boards. More prep info will follow !!\r\nThe fee to cover
  materials as well as tea and coffee on this occasion with be £5 for 
 Members. New Visitors will also be welcome @ £10 for the Session.\r\n
 \r\n\r\nBOOKING: Please call Charlotte on 07882993581 or email Charlot
 te.emery@theathenanetwork.com for BACS payments \r\nMAP\r\n----------
 ------------------------------------------------------\r\nFind more At
 hena meetings here on Networking in Surrey...\n\nFor more information 
 visit https://networkinginsurrey.co.uk/events/capuccino-connections-sp
 ecial-event
DTSTART;TZID=Europe/London:20200110T094500
DTEND;TZID=Europe/London:20200110T114500
CATEGORIES:networking
LOCATION:Stockton House GU51 4NS
WEBSITE:
URL:
CONTACT:
ORGANIZER;CN="Charlotte Emery":https://networkinginsurrey.co.uk/profil
 e/CharlotteEmery
ATTACH;FMTTYPE="image/jpeg":https://storage.ning.com/topology/rest/1.0
 /file/get/3766673817?profile=original
ATTENDEE;ROLE=REQ-PARTICIPANT;PARTSTAT=ACCEPTED;RSVP=TRUE;CN="Charlott
 e Emery":https://networkinginsurrey.co.uk/profile/CharlotteEmery
END:VEVENT
END:VCALENDAR
