BEGIN:VCALENDAR
PRODID:NingEventWidget-v1
VERSION:2.0
METHOD:PUBLISH
BEGIN:VTIMEZONE
TZID:Europe/London
X-LIC-LOCATION:Europe/London
BEGIN:DAYLIGHT
TZOFFSETFROM:+0000
TZOFFSETTO:+0100
TZNAME:BST
DTSTART:19700329T010000
RRULE:FREQ=YEARLY;BYMONTH=3;BYDAY=-1SU
END:DAYLIGHT
BEGIN:STANDARD
TZOFFSETFROM:+0100
TZOFFSETTO:+0000
TZNAME:GMT
DTSTART:19701025T020000
RRULE:FREQ=YEARLY;BYMONTH=10;BYDAY=-1SU
END:STANDARD
END:VTIMEZONE
BEGIN:VEVENT
UID:4626108:Event:527250
DTSTAMP:20260420T185719Z
SUMMARY:FREE Cappuccino Connections Coffee-Time Online
DESCRIPTION:Cappuccino Connections Informal Business Networking \r\n
 \r\nThis is an Informal Business Networking over coffee on the second 
 Thursday of the month.\r\nAll business women are invited, so whether y
 ou a networking novice or a nifty networker, come and see if we can he
 lp you build your business with new connections, support and inspirati
 on.\r\nIt’s the opportunity to make contact with local business ladi
 es and to spend time building those all important business relationshi
 ps.\r\nThis virtual event is informal, friendly and supportive.\r\nIf 
 you are a member of Athena, please provide me with your home group nam
 e when you register.For ladies who haven't visited an Athena group and
  experienced an Athena structured business meeting, Cappuccino Connect
 ions is a great ice breaker. Ideal for anyone new to Athena and/ or to
  networking, visitors are restricted to one visit.\r\nThe event is fre
 e, informal and you are welcome to come and go anytime between 10am an
 d 12pm.I look forward to seeing you there!\r\nCOST: FREE (booking esse
 ntial please)\r\nBOOKING: Please CLICK HERE to register\n\nFor more i
 nformation visit https://networkinginsurrey.co.uk/events/cappuccino-co
 nnections-free-informal-business-networking-over
DTSTART;TZID=Europe/London:20210610T100000
DTEND;TZID=Europe/London:20210610T120000
CATEGORIES:virtual, networking
LOCATION:Zoom online networking
WEBSITE:http://www.theathenanetwork.co.uk/dorisholleufer
URL:http://www.theathenanetwork.co.uk/dorisholleufer
CONTACT:07501 124113
ORGANIZER;CN="Doris Holleufer":https://networkinginsurrey.co.uk/profil
 e/DorisHolleufer88
ATTACH;FMTTYPE="image/jpeg":https://storage.ning.com/topology/rest/1.0
 /file/get/9034374901?profile=original
ATTENDEE;ROLE=REQ-PARTICIPANT;PARTSTAT=ACCEPTED;RSVP=TRUE;CN="Doris Ho
 lleufer":https://networkinginsurrey.co.uk/profile/DorisHolleufer88
END:VEVENT
END:VCALENDAR
