BEGIN:VCALENDAR
PRODID:NingEventWidget-v1
VERSION:2.0
METHOD:PUBLISH
BEGIN:VTIMEZONE
TZID:Europe/London
X-LIC-LOCATION:Europe/London
BEGIN:DAYLIGHT
TZOFFSETFROM:+0000
TZOFFSETTO:+0100
TZNAME:BST
DTSTART:19700329T010000
RRULE:FREQ=YEARLY;BYMONTH=3;BYDAY=-1SU
END:DAYLIGHT
BEGIN:STANDARD
TZOFFSETFROM:+0100
TZOFFSETTO:+0000
TZNAME:GMT
DTSTART:19701025T020000
RRULE:FREQ=YEARLY;BYMONTH=10;BYDAY=-1SU
END:STANDARD
END:VTIMEZONE
BEGIN:VEVENT
UID:4626108:Event:530354
DTSTAMP:20260421T061838Z
SUMMARY:CANVA For Beginners, Virtual Coffee Mornings
DESCRIPTION:Enhance Your Social Media Posts With Canva \r\n\r\nCanva 
 is a graphic design platform that allows users to create social media 
 graphics, presentations, posters and other visual content\r\nWhy: To 
 enhance your social media posts and marketing\r\nWhat: By the end of 
 this interactive, fun participatory session attendees will be able to 
 create a visually engaging image to use on a social media platform of 
 their choice.\r\nWhen: 45 minutes 9:30 am - 10:15 am)\r\nWho: Indivi
 duals new to Canva, this is an introduction\r\nWhere: Zoom\r\nSpaces
 : from 1 to 8\r\nPrice: £15\r\nAnd also included: an optional follow
 -up Wakelet board will be sent to you to share a design for me to asse
 ss and offer feedback. For members of my private Facebook group ther
 e is also a free 5-minute follow-up phone call and they can return as 
 guests to future sessions. \r\nI look forward to creating with you.\r
 \nJane Tyson\r\nCOST: £15\r\nBOOKING: Please CLICK HERE to register
 .\n\nFor more information visit https://networkinginsurrey.co.uk/event
 s/canva-for-beginners-virtual-coffee-mornings-1
DTSTART;TZID=Europe/London:20211113T093000
DTEND;TZID=Europe/London:20211113T101500
CATEGORIES:canva, for, beginners, coffee, morning
LOCATION:Zoom
WEBSITE:https://www.eventbrite.co.uk/e/canva-for-beginners-tickets-192
 297536107
URL:https://www.eventbrite.co.uk/e/canva-for-beginners-tickets-1922975
 36107
CONTACT:07768 392686
ORGANIZER;CN="Jane Tyson":https://networkinginsurrey.co.uk/profile/Jan
 eTyson
ATTACH;FMTTYPE="image/jpeg":https://storage.ning.com/topology/rest/1.0
 /file/get/8816440083?profile=original
ATTENDEE;ROLE=REQ-PARTICIPANT;PARTSTAT=ACCEPTED;RSVP=TRUE;CN="Jane Tys
 on":https://networkinginsurrey.co.uk/profile/JaneTyson
END:VEVENT
END:VCALENDAR
