BEGIN:VCALENDAR
PRODID:NingEventWidget-v1
VERSION:2.0
METHOD:PUBLISH
BEGIN:VTIMEZONE
TZID:Europe/London
X-LIC-LOCATION:Europe/London
BEGIN:DAYLIGHT
TZOFFSETFROM:+0000
TZOFFSETTO:+0100
TZNAME:BST
DTSTART:19700329T010000
RRULE:FREQ=YEARLY;BYMONTH=3;BYDAY=-1SU
END:DAYLIGHT
BEGIN:STANDARD
TZOFFSETFROM:+0100
TZOFFSETTO:+0000
TZNAME:GMT
DTSTART:19701025T020000
RRULE:FREQ=YEARLY;BYMONTH=10;BYDAY=-1SU
END:STANDARD
END:VTIMEZONE
BEGIN:VEVENT
UID:4626108:Event:412216
DTSTAMP:20260421T162019Z
SUMMARY:Canva for Beginners Morning Workshop
DESCRIPTION:Enhance Your Social Media Posts With Canva \r\n\r\n\r\n\r
 \nCanva is a graphic design platform that allows users to create socia
 l media graphics, presentations, posters and other visual content\r\nW
 hy: To enhance your social media posts and marketing\r\nWhat: By the e
 nd of this interactive, fun participatory session attendees will be ab
 le to create a visually engaging image to use on a social media platfo
 rm of their choice.\r\nWhen: 1 hour (2nd Saturday and 4th Monday of ea
 ch month)\r\nWho: Individuals new to Canva, this is an introduction\r\
 nWhere: Zoom\r\nSpaces: 8\r\nAnd also included: a follow-up Wakelet bo
 ard will be sent to you to share a design for me to assess and offer f
 eedback. For members of my private Facebook group there is also a f
 ree 15-minute phone call and they can return as guests to future sessi
 ons. \r\nCan't make the date? A half-hour bespoke session for Canva 
 or for social media support is £30 and £45 for 1 hour, please book 
 here and I will send a BACs transfer request.\r\nJane Tyson\r\nCOST: 
 £15\r\nBOOKING: Please CLICK HERE to book your place\n\nFor more info
 rmation visit https://networkinginsurrey.co.uk/events/canva-for-beginn
 ers-morning-workshop
DTSTART;TZID=Europe/London:20201010T093000
DTEND;TZID=Europe/London:20201010T103000
CATEGORIES:workshop
LOCATION:Online
WEBSITE:https://www.eventbrite.com/e/enhance-your-social-media-and-mar
 keting-with-canva-an-introduction-tickets-115166012644
URL:https://www.eventbrite.com/e/enhance-your-social-media-and-marketi
 ng-with-canva-an-introduction-tickets-115166012644
CONTACT:07768 392686
ORGANIZER;CN="Jane Tyson":https://networkinginsurrey.co.uk/profile/Jan
 eTyson
ATTACH;FMTTYPE="image/jpeg":https://storage.ning.com/topology/rest/1.0
 /file/get/7976622872?profile=original
ATTENDEE;ROLE=REQ-PARTICIPANT;PARTSTAT=ACCEPTED;RSVP=TRUE;CN="Jane Tys
 on":https://networkinginsurrey.co.uk/profile/JaneTyson
END:VEVENT
END:VCALENDAR
