BEGIN:VCALENDAR
PRODID:NingEventWidget-v1
VERSION:2.0
METHOD:PUBLISH
BEGIN:VTIMEZONE
TZID:Europe/London
X-LIC-LOCATION:Europe/London
BEGIN:DAYLIGHT
TZOFFSETFROM:+0000
TZOFFSETTO:+0100
TZNAME:BST
DTSTART:19700329T010000
RRULE:FREQ=YEARLY;BYMONTH=3;BYDAY=-1SU
END:DAYLIGHT
BEGIN:STANDARD
TZOFFSETFROM:+0100
TZOFFSETTO:+0000
TZNAME:GMT
DTSTART:19701025T020000
RRULE:FREQ=YEARLY;BYMONTH=10;BYDAY=-1SU
END:STANDARD
END:VTIMEZONE
BEGIN:VEVENT
UID:4626108:Event:4360
DTSTAMP:20260423T040149Z
SUMMARY:*** CANCELLED Informal Networking Evening, Cranleigh
DESCRIPTION:Wednesday Gatherings Postponed - Pub closed for refurbishm
 ent...the next networking event will be on the first Wednesday in July
 .\n\nFor more information visit https://networkinginsurrey.co.uk/event
 s/cancelled-informal-networking
DTSTART;TZID=Europe/London:20110413T180000
DTEND;TZID=Europe/London:20110413T190000
CATEGORIES:free, informal, business_networking_surrey
LOCATION:The Richard Onslow, Cranleigh GU6 8AU
WEBSITE:http://www.therichardonslow.co.uk/NewsEvents.asp?NewsID=390
URL:http://www.therichardonslow.co.uk/NewsEvents.asp?NewsID=390
CONTACT:01483 274922
ORGANIZER:John Taylor
ATTACH;FMTTYPE="image/jpeg":http://storage.ning.com/topology/rest/1.0/
 file/get/2591382927?profile=original
ATTENDEE;ROLE=REQ-PARTICIPANT;PARTSTAT=TENTATIVE;RSVP=TRUE;CN="Keith G
 rover, NiS Founder":https://networkinginsurrey.co.uk/profile/KeithGrov
 er
ATTENDEE;ROLE=REQ-PARTICIPANT;PARTSTAT=TENTATIVE;RSVP=TRUE;CN="Ian Gra
 y":https://networkinginsurrey.co.uk/profile/IanGray
END:VEVENT
END:VCALENDAR
