BEGIN:VCALENDAR
PRODID:NingEventWidget-v1
VERSION:2.0
METHOD:PUBLISH
BEGIN:VTIMEZONE
TZID:Europe/London
X-LIC-LOCATION:Europe/London
BEGIN:DAYLIGHT
TZOFFSETFROM:+0000
TZOFFSETTO:+0100
TZNAME:BST
DTSTART:19700329T010000
RRULE:FREQ=YEARLY;BYMONTH=3;BYDAY=-1SU
END:DAYLIGHT
BEGIN:STANDARD
TZOFFSETFROM:+0100
TZOFFSETTO:+0000
TZNAME:GMT
DTSTART:19701025T020000
RRULE:FREQ=YEARLY;BYMONTH=10;BYDAY=-1SU
END:STANDARD
END:VTIMEZONE
BEGIN:VEVENT
UID:4626108:Event:5689
DTSTAMP:20260423T095506Z
SUMMARY:CANCELLED: FREE Meet the Marketers Evening, Guildford
DESCRIPTION:THIS EVENT HAS BEEN CANCELLED DUE TO WEATHER CONDITIONS\n\
 nDo you work in marketing, PR, advertising, sales or even run your own
  business - maybe you're just setting foot into the marketing arena an
 d looking to make new contacts.\nThe Surrey branch 'meet with drinks' 
 is a networking event is for anyone living or working in Surrey who wo
 rks directly or indirectly in marketing to meet others in the industry
  in an informal environment to share knowledge and meet new people. \n
 PLEASE REGISTER HERE for this FREE event so we know you're coming alon
 g...\nMAP small entrance turnoff to the left of The Spectrum Leisure C
 entre entrance on the map (opposite side to Lido Road). Parking is ple
 ntiful and free\n\nFor more information visit https://networkinginsurr
 ey.co.uk/events/cancelled-free-meet-the
DTSTART;TZID=Europe/London:20101201T193000
DTEND;TZID=Europe/London:20101201T210000
CATEGORIES:free, informal, evening, guildford
LOCATION:Brewers Fayre Parkway Pub-Restaurant GU1 1UP
WEBSITE:http://www.linkedin.com/osview/canvas?_ch_page_id=1&_ch_panel_
 id=1&_ch_app_id=7083120&_applicationId=2000&_ownerId=0&appParams=%7B%2
 2go_to%22:%22events/482922%22,%22referrer%22:%22public%22%7D
URL:http://www.linkedin.com/osview/canvas?_ch_page_id=1&_ch_panel_id=1
 &_ch_app_id=7083120&_applicationId=2000&_ownerId=0&appParams=%7B%22go_
 to%22:%22events/482922%22,%22referrer%22:%22public%22%7D
CONTACT:
ORGANIZER:Lynzi Ashworth & Leigh Hopwood
ATTACH;FMTTYPE="image/jpeg":http://storage.ning.com/topology/rest/1.0/
 file/get/2591381943?profile=original
ATTENDEE;ROLE=REQ-PARTICIPANT;PARTSTAT=ACCEPTED;RSVP=TRUE;CN="Lyn Fren
 ch":https://networkinginsurrey.co.uk/profile/LynFrench
ATTENDEE;ROLE=REQ-PARTICIPANT;PARTSTAT=ACCEPTED;RSVP=TRUE;CN="Keith Gr
 over, NiS Founder":https://networkinginsurrey.co.uk/profile/KeithGrove
 r
ATTENDEE;ROLE=REQ-PARTICIPANT;PARTSTAT=TENTATIVE;RSVP=TRUE;CN="Simon L
 ongman":https://networkinginsurrey.co.uk/profile/SimonLongman
END:VEVENT
END:VCALENDAR
