BEGIN:VCALENDAR
PRODID:NingEventWidget-v1
VERSION:2.0
METHOD:PUBLISH
BEGIN:VTIMEZONE
TZID:Europe/London
X-LIC-LOCATION:Europe/London
BEGIN:DAYLIGHT
TZOFFSETFROM:+0000
TZOFFSETTO:+0100
TZNAME:BST
DTSTART:19700329T010000
RRULE:FREQ=YEARLY;BYMONTH=3;BYDAY=-1SU
END:DAYLIGHT
BEGIN:STANDARD
TZOFFSETFROM:+0100
TZOFFSETTO:+0000
TZNAME:GMT
DTSTART:19701025T020000
RRULE:FREQ=YEARLY;BYMONTH=10;BYDAY=-1SU
END:STANDARD
END:VTIMEZONE
BEGIN:VEVENT
UID:4626108:Event:101054
DTSTAMP:20260422T002118Z
SUMMARY:Camberley Connections Breakfast
DESCRIPTION:Camberley Connections at Pine Ridge Golf Club\r\n\r\nConne
 ctSurrey is coming to Camberley - this will be our 8th group!\r\nAt Co
 nnect Surrey, we’re passionate about networking … it is the easie
 st, most effective way to find new business, it really is, so come an
 d see for yourselves!\r\nYour organisers for this group are Sally Cas
 tro Gouveia and Paul Webster. \r\nCamberley Connections is our newest
  network meeting, but already it's becoming a lovely friendly group.\r
 \nThis is a fortnightly breakfast meeting on a Thursday, arrival time 
 8am for 8:30am start and will finish around 10am.  \r\n\r\nFormat:\r
 \n\r\n60 Second Round\r\n10 Minute Open Networking \r\n10 Minute Memb
 er Presentation\r\nWrap Up/Testimonial Round \r\n\r\nWhy should you c
 ome and join us?\r\n\r\nWe run professional meetings \r\nOur groups a
 re always fun and friendly\r\nWe are not just businesses acquaintanc
 es, you really become good friends\r\nWe have businesses that REALLY D
 O want to work with each other. Therefore lots of genuine referrals 
 passed amongst each other and all groups.\r\n\r\nWhat are we looking f
 or?\r\n\r\nBusinesses that are looking for more leads\r\nBusinesses th
 at would like to be a part of regular local network meetings\r\nOne ma
 n bands that work from home who are looking for a local support networ
 k\r\nBusinesses that want to join a fun and friendly network group\r\n
 \r\nSo if you still haven't quite found the right networking group for
  you, please come along and try us out.  \r\nBoth Sally and Paul loo
 k forward to seeing you all and please share this with any local bus
 inesses you think would benefit from coming along....the more the merr
 ier!\r\nCOST: £15 including breakfast - payable on-line or on the d
 oor.\r\nBOOKING: Please CLICK HERE to book\r\nMAP\n\nFor more inform
 ation visit https://networkinginsurrey.co.uk/events/camberley-connecti
 ons-breakfast
DTSTART;TZID=Europe/London:20181011T083000
DTEND;TZID=Europe/London:20181011T100000
CATEGORIES:networking
LOCATION:Pine Ridge Golf Club GU16 9NX
WEBSITE:https://connectsurrey.uk/events/camberley-connections-new-2018
 -04-26/
URL:https://connectsurrey.uk/events/camberley-connections-new-2018-04-
 26/
CONTACT:07525 738758
ORGANIZER:Sally Castro Gouveia
ATTACH;FMTTYPE="image/jpeg":http://storage.ning.com/topology/rest/1.0/
 file/get/2591476617?profile=original
ATTENDEE;ROLE=REQ-PARTICIPANT;PARTSTAT=ACCEPTED;RSVP=TRUE;CN="Keith Gr
 over, NiS Founder":https://networkinginsurrey.co.uk/profile/KeithGrove
 r
END:VEVENT
END:VCALENDAR
