BEGIN:VCALENDAR
PRODID:NingEventWidget-v1
VERSION:2.0
METHOD:PUBLISH
BEGIN:VTIMEZONE
TZID:Europe/London
X-LIC-LOCATION:Europe/London
BEGIN:DAYLIGHT
TZOFFSETFROM:+0000
TZOFFSETTO:+0100
TZNAME:BST
DTSTART:19700329T010000
RRULE:FREQ=YEARLY;BYMONTH=3;BYDAY=-1SU
END:DAYLIGHT
BEGIN:STANDARD
TZOFFSETFROM:+0100
TZOFFSETTO:+0000
TZNAME:GMT
DTSTART:19701025T020000
RRULE:FREQ=YEARLY;BYMONTH=10;BYDAY=-1SU
END:STANDARD
END:VTIMEZONE
BEGIN:VEVENT
UID:4626108:Event:102107
DTSTAMP:20260424T111340Z
SUMMARY:Camberley Connections Breakfast
DESCRIPTION:Camberley Connections at Pine Ridge Golf Club\r\n\r\nAt Co
 nnect Surrey, we’re passionate about networking … it is the easie
 st, most effective way to find new business, it really is, so come an
 d see for yourselves!\r\nYour organisers for this group are Sally Cas
 tro Gouveia and Paul Webster. \r\nCamberley Connections is our newest
  network meeting, but already it's becoming a lovely friendly group.\r
 \n\r\nThis is a fortnightly breakfast meeting on a Thursday, arrival t
 ime 8am for 8:30am start and will finish around 10am.  \r\nFormat:\r
 \n\r\n60 Second Round\r\n10 Minute Open Networking \r\n10 Minute Memb
 er Presentation\r\nWrap Up/Testimonial Round \r\n\r\nWhy should you c
 ome and join us?\r\n\r\nWe run professional meetings \r\nOur groups a
 re always fun and friendly\r\nWe are not just businesses acquaintanc
 es, you really become good friends\r\nWe have businesses that REALLY D
 O want to work with each other. Therefore lots of genuine referrals 
 passed amongst each other and all groups.\r\n\r\nWhat are we looking f
 or?\r\n\r\nBusinesses that are looking for more leads\r\nBusinesses th
 at would like to be a part of regular local network meetings\r\nOne ma
 n bands that work from home who are looking for a local support networ
 k\r\nBusinesses that want to join a fun and friendly network group\r\n
 \r\nSo if you still haven't quite found the right networking group for
  you, please come along and try us out.  \r\n\r\nBoth Sally and Paul
  look forward to seeing you all and please share this with any local
  businesses you think would benefit from coming along....the more the 
 merrier!\r\nCOST: £15 including breakfast - payable on-line or on t
 he door.\r\nBOOKING: Please CLICK HERE to book\r\nMAP\n\nFor more in
 formation visit https://networkinginsurrey.co.uk/events/camberley-conn
 ections-breakfast-4
DTSTART;TZID=Europe/London:20181220T083000
DTEND;TZID=Europe/London:20181220T103000
CATEGORIES:breakfast, camberley, connect_surrey
LOCATION:Pine Ridge Golf Club GU16 9NX
WEBSITE:
URL:
CONTACT:07799 888388
ORGANIZER;CN="Paul A Bridgland":https://networkinginsurrey.co.uk/profi
 le/PaulABridgland
ATTACH;FMTTYPE="image/jpeg":https://storage.ning.com/topology/rest/1.0
 /file/get/254493866?profile=original
ATTENDEE;ROLE=REQ-PARTICIPANT;PARTSTAT=ACCEPTED;RSVP=TRUE;CN="Lady Gil
  Marston-Haynes":https://networkinginsurrey.co.uk/profile/LadyGilMarst
 onHaynes
ATTENDEE;ROLE=REQ-PARTICIPANT;PARTSTAT=ACCEPTED;RSVP=TRUE;CN="Paul A B
 ridgland":https://networkinginsurrey.co.uk/profile/PaulABridgland
END:VEVENT
END:VCALENDAR
