BEGIN:VCALENDAR
PRODID:NingEventWidget-v1
VERSION:2.0
METHOD:PUBLISH
BEGIN:VTIMEZONE
TZID:Europe/London
X-LIC-LOCATION:Europe/London
BEGIN:DAYLIGHT
TZOFFSETFROM:+0000
TZOFFSETTO:+0100
TZNAME:BST
DTSTART:19700329T010000
RRULE:FREQ=YEARLY;BYMONTH=3;BYDAY=-1SU
END:DAYLIGHT
BEGIN:STANDARD
TZOFFSETFROM:+0100
TZOFFSETTO:+0000
TZNAME:GMT
DTSTART:19701025T020000
RRULE:FREQ=YEARLY;BYMONTH=10;BYDAY=-1SU
END:STANDARD
END:VTIMEZONE
BEGIN:VEVENT
UID:4626108:Event:101478
DTSTAMP:20260421T222429Z
SUMMARY:Camberley Connections Breakfast
DESCRIPTION:Camberley Connections at Pine Ridge Golf Club\n\nAt Connec
 t Surrey, we’re passionate about networking … it is the easiest, 
 most effective way to find new business, it really is, so come and se
 e for yourselves!\nYour organisers for this group are Sally Castro Go
 uveia and Paul Webster. \nCamberley Connections is our newest network
  meeting, but already it's becoming a lovely friendly group.\n\nThis i
 s a fortnightly breakfast meeting on a Thursday, arrival time 8am for 
 8:30am start and will finish around 10am.  \nFormat:\n\n60 Second Ro
 und\n10 Minute Open Networking \n10 Minute Member Presentation\nWrap 
 Up/Testimonial Round \n\nWhy should you come and join us?\n\nWe run p
 rofessional meetings \nOur groups are always fun and friendly\nWe a
 re not just businesses acquaintances, you really become good friends\n
 We have businesses that REALLY DO want to work with each other. Theref
 ore lots of genuine referrals passed amongst each other and all grou
 ps.\n\nWhat are we looking for?\n\nBusinesses that are looking for mor
 e leads\nBusinesses that would like to be a part of regular local netw
 ork meetings\nOne man bands that work from home who are looking for a 
 local support network\nBusinesses that want to join a fun and friendly
  network group\n\nSo if you still haven't quite found the right networ
 king group for you, please come along and try us out.  \n\nBoth Sall
 y and Paul look forward to seeing you all and please share this with
  any local businesses you think would benefit from coming along....the
  more the merrier!\nCOST: £15 including breakfast - payable on-line
  or on the door.\nBOOKING: Please CLICK HERE to book\nMAP\n\nFor mor
 e information visit https://networkinginsurrey.co.uk/events/camberley-
 connections-breakfast-2
DTSTART;TZID=Europe/London:20181122T083000
DTEND;TZID=Europe/London:20181122T103000
CATEGORIES:breakfast, camberley, connect_surrey
LOCATION:Pine Ridge Golf Club GU16 9NX
WEBSITE:
URL:
CONTACT:07799 888388
ORGANIZER;CN="Paul A Bridgland":https://networkinginsurrey.co.uk/profi
 le/PaulABridgland
ATTACH;FMTTYPE="image/jpeg":http://storage.ning.com/topology/rest/1.0/
 file/get/254493866?profile=original
ATTENDEE;ROLE=REQ-PARTICIPANT;PARTSTAT=ACCEPTED;RSVP=TRUE;CN="Paul A B
 ridgland":https://networkinginsurrey.co.uk/profile/PaulABridgland
END:VEVENT
END:VCALENDAR
